BEGIN:VCALENDAR
VERSION:2.0
PRODID:-//KulturaLudowa.pl - ECPv6.15.20//NONSGML v1.0//EN
CALSCALE:GREGORIAN
METHOD:PUBLISH
X-ORIGINAL-URL:https://kulturaludowa.pl
X-WR-CALDESC:Wydarzenia dla KulturaLudowa.pl
REFRESH-INTERVAL;VALUE=DURATION:PT1H
X-Robots-Tag:noindex
X-PUBLISHED-TTL:PT1H
BEGIN:VTIMEZONE
TZID:Europe/Warsaw
BEGIN:DAYLIGHT
TZOFFSETFROM:+0100
TZOFFSETTO:+0200
TZNAME:CEST
DTSTART:20240331T010000
END:DAYLIGHT
BEGIN:STANDARD
TZOFFSETFROM:+0200
TZOFFSETTO:+0100
TZNAME:CET
DTSTART:20241027T010000
END:STANDARD
BEGIN:DAYLIGHT
TZOFFSETFROM:+0100
TZOFFSETTO:+0200
TZNAME:CEST
DTSTART:20250330T010000
END:DAYLIGHT
BEGIN:STANDARD
TZOFFSETFROM:+0200
TZOFFSETTO:+0100
TZNAME:CET
DTSTART:20251026T010000
END:STANDARD
BEGIN:DAYLIGHT
TZOFFSETFROM:+0100
TZOFFSETTO:+0200
TZNAME:CEST
DTSTART:20260329T010000
END:DAYLIGHT
BEGIN:STANDARD
TZOFFSETFROM:+0200
TZOFFSETTO:+0100
TZNAME:CET
DTSTART:20261025T010000
END:STANDARD
END:VTIMEZONE
BEGIN:VEVENT
DTSTART;VALUE=DATE:20250406
DTEND;VALUE=DATE:20250407
DTSTAMP:20260419T231120
CREATED:20250312T121432Z
LAST-MODIFIED:20250312T121432Z
UID:19611-1743897600-1743983999@kulturaludowa.pl
SUMMARY:VI Wojewódzki Konkurs na Palmę i Pisankę Wielkanocną
DESCRIPTION:Centrum Spotkania Kultur w Lublinie oraz Urząd Marszałkowski Województwa Lubelskiego zapraszają wszystkich twórców ludowych\, rękodzielników\, artystów plastyków\, członkinie kół gospodyń wiejskich\, a także dzieci i młodzież szkolną do udziału.  \nKonkurs skierowany jest do mieszkańców województwa lubelskiego\, a zgłoszenia przyjmowane są przez Urząd Gminy oraz gminne instytucje kultury. Konkurs został podzielony na cztery kategorie:• pisanka wielkanocna wykonana techniką tradycyjną\,• pisanka wielkanocna wykonana techniką współczesną\,• palma wielkanocna wykonana techniką tradycyjną\,• palma wielkanocna wykonana techniką współczesną.W każdej kategorii wyróżnimy laureatów w dwóch kategoriach wiekowych: oddzielnie dzieci i młodzież do 18. roku życia\, a oddzielnie dorośli.  \nPrace można zgłaszać do 20 marca 2025 r. Prace konkursowe należy składać w dniach 24-27 marca br. Finał konkursu wraz z ogłoszeniem wyników odbędzie się 6 kwietnia br. o godz. 12:00 we Foyer Sali Operowej Centrum Spotkania Kultur w Lublinie. \nRegulamin\, karta zgłoszenia www.lubelskie.pl
URL:https://kulturaludowa.pl/wydarzenia/vi-wojewodzki-konkurs-na-palme-i-pisanke-wielkanocna/
LOCATION:Centrum Spotkania Kultur w Lublinie\, pl. Teatralny 1\, Lublin\, Lubelskie\, Polska
CATEGORIES:Konkursy / Przeglądy
ATTACH;FMTTYPE=image/png:https://kulturaludowa.pl/wp-content/webpc-passthru.php?src=https://kulturaludowa.pl/wp-content/uploads/vi-palma-i-pisanka-lubelskie-2025.png&amp;nocache=1
ORGANIZER;CN="Centrum Spotkania Kultur w Lublinie":MAILTO:biuro@spotkaniakultur.com
END:VEVENT
BEGIN:VEVENT
DTSTART;VALUE=DATE:20250406
DTEND;VALUE=DATE:20250407
DTSTAMP:20260419T231120
CREATED:20250312T122113Z
LAST-MODIFIED:20250312T122113Z
UID:19614-1743897600-1743983999@kulturaludowa.pl
SUMMARY:Wielkanocny Kiermasz Sztuki Ludowej i Rękodzieła
DESCRIPTION:Łódzki Dom Kultury serdecznie zapraszamy na coroczny kiermasz\, który na stałe wpisał się w wielkanocne tradycje regionu! \nW wydarzeniu weźmie udział ok. 50 twórców ludowych reprezentujących regiony etnograficzne województwa łódzkiego: opoczyński\, łowicki\, sieradzki. \nTo doskonała okazja\, by podziwiać ich niezwykłe rękodzieło oraz zakupić unikalne wyroby sztuki ludowej. Wśród nich znajdą się m.in.: \n\nPlastyka obrzędowa – palmy wielkanocne\, pisanki\, kraszanki;\nPlastyka papierowa – pająki\, wycinanki\, kwiaty z bibuły;\nRzeźba i malarstwo;\nKoronki i hafty;\nCeramika;\nWyroby z wikliny.\n\nTERMIN: 6 kwietnia 2025 r.\, godz. 10-16:00\nMIEJSCE: Łódzka Agencja Rozwoju Regionalnego (ŁARR)\nwstęp wolny
URL:https://kulturaludowa.pl/wydarzenia/wielkanocny-kiermasz-sztuki-ludowej-i-rekodziela/
LOCATION:Łódzka Agencja Rozwoju Regionalnego\, ul. Narutowicza 34\, Łódź\, Łódzkie\, 90-135\, Poland
CATEGORIES:Polecane,Targi / Kiermasze / Jarmarki
ATTACH;FMTTYPE=image/jpeg:https://kulturaludowa.pl/wp-content/webpc-passthru.php?src=https://kulturaludowa.pl/wp-content/uploads/kierszma-wielkanocny-ldk-2025.jpg&amp;nocache=1
END:VEVENT
BEGIN:VEVENT
DTSTART;VALUE=DATE:20250407
DTEND;VALUE=DATE:20250408
DTSTAMP:20260419T231120
CREATED:20250312T120706Z
LAST-MODIFIED:20250312T120706Z
UID:19608-1743984000-1744070399@kulturaludowa.pl
SUMMARY:Konkurs na Pisankę Wielkanocną
DESCRIPTION:Centrum Kulturalne w Przemyślu ogłasza wyjątkowy konkurs na najpiękniejszą pisankę. To doskonała okazja\, by zaprezentować swoje umiejętności i podtrzymać wielkanocne tradycje. \nKonkurs obejmuje swym zasięgiem powiaty: jarosławski\, lubaczowski\, przemyski\, przeworski\, łańcucki\, leżajski\, rzeszowski. \n\nTermin dostarczania prac: 7 kwietnia\nRozstrzygnięcie konkursu: 13 kwietnia\, Klub Piwnice CK\n\nSzczegóły\, regulamin na stronie www.ck.przemysl.pl
URL:https://kulturaludowa.pl/wydarzenia/konkurs-na-pisanke-wielkanocna-4/
LOCATION:Centrum Kulturalne w Przemyślu\, ul. Stanisława Konarskiego 9\, Przemyśl\, Podkarpackie\, 37-700\, Polska
CATEGORIES:Dla dzieci,Konkursy / Przeglądy,Polecane
ATTACH;FMTTYPE=image/jpeg:https://kulturaludowa.pl/wp-content/webpc-passthru.php?src=https://kulturaludowa.pl/wp-content/uploads/konkurs-na-pisanke-przemysl-2025.jpg&amp;nocache=1
ORGANIZER;CN="Centrum Kulturalne w Przemy%C5%9Blu":MAILTO:ck@ck.przemysl.pl
END:VEVENT
BEGIN:VEVENT
DTSTART;VALUE=DATE:20250425
DTEND;VALUE=DATE:20250427
DTSTAMP:20260419T231120
CREATED:20250312T131529Z
LAST-MODIFIED:20250312T131529Z
UID:19622-1745539200-1745711999@kulturaludowa.pl
SUMMARY:Wojewódzki Przegląd Zespołów Śpiewaczych – Ostrówek 2025
DESCRIPTION:Przegląd Zespołów Śpiewaczych w Ostrówku\, który odbędzie się w dniach 25-26 kwietnia 2025 r.\, to coroczne wydarzenie kulturalne\, które gromadzi amatorskie zespoły śpiewacze\, solistów oraz uczestników w kategorii „mistrz-uczeń” z różnych regionów etnograficznych województwa łódzkiego. W trakcie przeglądu uczestnicy prezentują tradycyjne pieśni ludowe\, a jego celem jest promowanie i pielęgnowanie regionalnych tradycji muzycznych oraz integracja lokalnych społeczności. \nWydarzenie\, które odbywa się w atmosferze radości i wzajemnego szacunku\, stwarza uczestnikom doskonałą okazję do wymiany doświadczeń oraz nawiązywania nowych kontaktów z innymi artystami. Podczas przeglądu odbywa się rywalizacja o nagrody i wyróżnienia\, a werdykt jury uwzględnia nie tylko walory artystyczne\, ale także autentyczność oraz zgodność z tradycją regionalną. \nUdział w przeglądzie to także szansa na szerszą promocję twórczości\, co ma ogromne znaczenie dla dalszego rozwoju kultury ludowej w województwie łódzkim. Formuła konkursowa pozwala wyróżnić najlepszych uczestników i wyłonić wykonawców\, którzy będą reprezentować województwo łódzkie na 59. Festiwalu Kapel i Śpiewaków Ludowych w Kazimierzu Dolnym. \nKarty zgłoszenia oraz Regulamin konkursu są dostępne do pobrania w załącznikach po prawej stronie. \nWspółorganizatorami wydarzenia są Łódzki Dom Kultury oraz Starostwo Powiatowe w Wieluniu. \nSzczegóły\, regulamin: www.ldk.lodz.pl \n* Fot. www.ldk.lodz.pl
URL:https://kulturaludowa.pl/wydarzenia/wojewodzki-przeglad-zespolow-spiewaczych-ostrowek-2025/
LOCATION:Gminny Ośrodek Upowszechniania Kultury i Sportu w Ostrówku\, Ostrówek 94\, Ostrówek\, Łódzkie\, 98-311\, Poland
CATEGORIES:Konkursy / Przeglądy
ATTACH;FMTTYPE=image/jpeg:https://kulturaludowa.pl/wp-content/webpc-passthru.php?src=https://kulturaludowa.pl/wp-content/uploads/ostrowek-ldk-przeglad.jpg&amp;nocache=1
END:VEVENT
END:VCALENDAR