BEGIN:VCALENDAR
VERSION:2.0
PRODID:-//KulturaLudowa.pl - ECPv6.15.20//NONSGML v1.0//EN
CALSCALE:GREGORIAN
METHOD:PUBLISH
X-WR-CALNAME:KulturaLudowa.pl
X-ORIGINAL-URL:https://kulturaludowa.pl
X-WR-CALDESC:Wydarzenia dla KulturaLudowa.pl
REFRESH-INTERVAL;VALUE=DURATION:PT1H
X-Robots-Tag:noindex
X-PUBLISHED-TTL:PT1H
BEGIN:VTIMEZONE
TZID:Europe/Warsaw
BEGIN:DAYLIGHT
TZOFFSETFROM:+0100
TZOFFSETTO:+0200
TZNAME:CEST
DTSTART:20240331T010000
END:DAYLIGHT
BEGIN:STANDARD
TZOFFSETFROM:+0200
TZOFFSETTO:+0100
TZNAME:CET
DTSTART:20241027T010000
END:STANDARD
BEGIN:DAYLIGHT
TZOFFSETFROM:+0100
TZOFFSETTO:+0200
TZNAME:CEST
DTSTART:20250330T010000
END:DAYLIGHT
BEGIN:STANDARD
TZOFFSETFROM:+0200
TZOFFSETTO:+0100
TZNAME:CET
DTSTART:20251026T010000
END:STANDARD
BEGIN:DAYLIGHT
TZOFFSETFROM:+0100
TZOFFSETTO:+0200
TZNAME:CEST
DTSTART:20260329T010000
END:DAYLIGHT
BEGIN:STANDARD
TZOFFSETFROM:+0200
TZOFFSETTO:+0100
TZNAME:CET
DTSTART:20261025T010000
END:STANDARD
END:VTIMEZONE
BEGIN:VEVENT
DTSTART;VALUE=DATE:20250124
DTEND;VALUE=DATE:20250125
DTSTAMP:20260419T180037
CREATED:20250122T105410Z
LAST-MODIFIED:20250122T105410Z
UID:19485-1737676800-1737763199@kulturaludowa.pl
SUMMARY:Koncert kolęd „Przyjmijcie nos dobrzy ludzie po kolyndzie”
DESCRIPTION:Małopolskie Centrum Kultury SOKÓŁ oraz Dziecięcy Zespół Regionalny „Majeranki”\, działający przy Stowarzyszeniu Miłośników Kultury Ludowej w Chabówce serdecznie zapraszają na koncert kolęd z okazji 20-lecia działalności zespołu. \nWydarzenie odbędzie się w piątek\, 24 stycznia 2025 roku o godz. 18:00 w Instytucie Dziedzictwa Niematerialnego Ludów Karpackich w Ludźmierzu. \nZespół „Majeranki” powstały w 2005 roku. Założycielką i kierownikiem artystycznym zespołu jest dr Dorota Majerczyk\, z wykształcenia etnolog i folklorysta. Kapelą kieruje Piotr Majerczyk\, znany instrumentalista. Repertuar został oparty na folklorze Niżnego Podhala. Zespół tworzą dzieci w wieku od pięciu do czternastu lat\, z miejscowości takich jak Chabówka\, Rabka-Zdrój\, Raba Wyżna\, Skawa\, Rdzawka\, Sieniawa\, Rokiciny Podhalańskie oraz Olszówka. MAJERANKI mają na swoim koncie wiele występów i sukcesów\, zarówno w kraju\, jak i za granicą (Europa\, Azja\, obie Ameryki). \nW trakcie wydarzenia odbędzie się również prezentacja nowej płyty z kolędami i pastorałkami zatytułowanej „Przyjmijcie nos dobrzy ludzie”. \nWieczór uświetni występ serbskiego zespołu KUD FRA z Čačak\, który zaprezentuje barwny folklor taneczny Serbii. Występ gości będzie wyjątkową okazją do zapoznania się z tradycjami muzycznymi i tanecznymi Bałkanów.
URL:https://kulturaludowa.pl/wydarzenia/koncert-koled-przyjmijcie-nos-dobrzy-ludzie-po-kolyndzie/
LOCATION:Instytut Dziedzictwa Niematerialnego Ludów Karpackich w Ludźmierzu\, ul. Jana Pawła II 116\, Ludźmierz\, Małopolskie\, 34-471
CATEGORIES:Koncerty,Polecane
ATTACH;FMTTYPE=image/jpeg:https://kulturaludowa.pl/wp-content/webpc-passthru.php?src=https://kulturaludowa.pl/wp-content/uploads/majeranki-koledy-koncert-2025.jpg&amp;nocache=1
ORGANIZER;CN="Ma%C5%82opolskie Centrum Kultury SOK%C3%93%C5%81":MAILTO:kontakt[at]mcksokol.pl
END:VEVENT
END:VCALENDAR