BEGIN:VCALENDAR
VERSION:2.0
PRODID:-//KulturaLudowa.pl - ECPv6.15.20//NONSGML v1.0//EN
CALSCALE:GREGORIAN
METHOD:PUBLISH
X-ORIGINAL-URL:https://kulturaludowa.pl
X-WR-CALDESC:Wydarzenia dla KulturaLudowa.pl
REFRESH-INTERVAL;VALUE=DURATION:PT1H
X-Robots-Tag:noindex
X-PUBLISHED-TTL:PT1H
BEGIN:VTIMEZONE
TZID:Europe/Warsaw
BEGIN:DAYLIGHT
TZOFFSETFROM:+0100
TZOFFSETTO:+0200
TZNAME:CEST
DTSTART:20230326T010000
END:DAYLIGHT
BEGIN:STANDARD
TZOFFSETFROM:+0200
TZOFFSETTO:+0100
TZNAME:CET
DTSTART:20231029T010000
END:STANDARD
BEGIN:DAYLIGHT
TZOFFSETFROM:+0100
TZOFFSETTO:+0200
TZNAME:CEST
DTSTART:20240331T010000
END:DAYLIGHT
BEGIN:STANDARD
TZOFFSETFROM:+0200
TZOFFSETTO:+0100
TZNAME:CET
DTSTART:20241027T010000
END:STANDARD
BEGIN:DAYLIGHT
TZOFFSETFROM:+0100
TZOFFSETTO:+0200
TZNAME:CEST
DTSTART:20250330T010000
END:DAYLIGHT
BEGIN:STANDARD
TZOFFSETFROM:+0200
TZOFFSETTO:+0100
TZNAME:CET
DTSTART:20251026T010000
END:STANDARD
END:VTIMEZONE
BEGIN:VEVENT
DTSTART;VALUE=DATE:20241129
DTEND;VALUE=DATE:20241202
DTSTAMP:20260419T161916
CREATED:20241129T132346Z
LAST-MODIFIED:20241129T132346Z
UID:19382-1732838400-1733097599@kulturaludowa.pl
SUMMARY:43. Spotkania Cymbalistów
DESCRIPTION:Wojewódzki Dom Kultury w Rzeszowie zaprasza na 43. Spotkania Cymbalistów\, które odbędą się w dniach 29.11-1.12.2024 r. \nTo unikatowy Konkurs organizowany przez Wojewódzki Dom Kultury w Rzeszowie. Ma on niepowtarzalny w skali kraju charakter. Ocala od zapomnienia sztukę gry na cymbałach – tradycyjnym\, charakterystycznym dla Podkarpacia instrumencie. Niezwykle istotne jest stwarzanie ludowym muzykom możliwości do zaprezentowania sztuki gry oraz integracja i wymiana doświadczeń uczestników konkursu. \nPierwszego dnia – 29 listopada\nOdbędzie się seminarium nt. cymbałów połączone z pokazem gry na różnych rodzajach tego wyjątkowego instrumentu. Seminarium obejmować będzie część teoretyczną i praktyczną. Zwieńczeniem całości seminarium będzie koncert zespołu folkowego – Hajda Banda\, ukazujący brzmienie cymbałów w nowych\, współczesnych aranżacjach. \nDrugiego dnia – 30 listopada\nOdbędzie się przegląd konkursowy solistów-cymbalistów z całej Polski. Natomiast ostatniego\, trzeciego dnia – 1 grudnia – swoje umiejętności zaprezentują kapele ludowe\, w których skład instrumentalny wchodzą cymbały – wszystkie występy oceni profesjonalne jury. \nWydarzenie dofinansowane ze środków Ministra Kultury i Dziedzictwa Narodowego pochodzących z Funduszu Promocji Kultury oraz ze środków budżetu Województwa Podkarpackiego. \nŹródło: Podkarpacki Informator Kulturalny / www.kulturapodkarpacka.pl (licencja)
URL:https://kulturaludowa.pl/wydarzenia/43-spotkania-cymbalistow/
LOCATION:Wojewódzki Dom Kultury w Rzeszowie\, ul. S. Okrzei 7\, Rzeszów\, Podkarpackie\, 35-959\, Polska
CATEGORIES:Koncerty,Konkursy / Przeglądy,Polecane,Warsztaty,Wykłady / Konferencje
ATTACH;FMTTYPE=image/jpeg:https://kulturaludowa.pl/wp-content/webpc-passthru.php?src=https://kulturaludowa.pl/wp-content/uploads/43-spotkania-cymbalistow-2024.jpg&amp;nocache=1
ORGANIZER;CN="Wojew%C3%B3dzki Dom Kultury w Rzeszowie":MAILTO:wdk@podkarpackie.pl
END:VEVENT
END:VCALENDAR