BEGIN:VCALENDAR
VERSION:2.0
PRODID:-//KulturaLudowa.pl - ECPv6.15.20//NONSGML v1.0//EN
CALSCALE:GREGORIAN
METHOD:PUBLISH
X-WR-CALNAME:KulturaLudowa.pl
X-ORIGINAL-URL:https://kulturaludowa.pl
X-WR-CALDESC:Wydarzenia dla KulturaLudowa.pl
REFRESH-INTERVAL;VALUE=DURATION:PT1H
X-Robots-Tag:noindex
X-PUBLISHED-TTL:PT1H
BEGIN:VTIMEZONE
TZID:Europe/Warsaw
BEGIN:DAYLIGHT
TZOFFSETFROM:+0100
TZOFFSETTO:+0200
TZNAME:CEST
DTSTART:20210328T010000
END:DAYLIGHT
BEGIN:STANDARD
TZOFFSETFROM:+0200
TZOFFSETTO:+0100
TZNAME:CET
DTSTART:20211031T010000
END:STANDARD
BEGIN:DAYLIGHT
TZOFFSETFROM:+0100
TZOFFSETTO:+0200
TZNAME:CEST
DTSTART:20220327T010000
END:DAYLIGHT
BEGIN:STANDARD
TZOFFSETFROM:+0200
TZOFFSETTO:+0100
TZNAME:CET
DTSTART:20221030T010000
END:STANDARD
BEGIN:DAYLIGHT
TZOFFSETFROM:+0100
TZOFFSETTO:+0200
TZNAME:CEST
DTSTART:20230326T010000
END:DAYLIGHT
BEGIN:STANDARD
TZOFFSETFROM:+0200
TZOFFSETTO:+0100
TZNAME:CET
DTSTART:20231029T010000
END:STANDARD
END:VTIMEZONE
BEGIN:VEVENT
DTSTART;VALUE=DATE:20220827
DTEND;VALUE=DATE:20220828
DTSTAMP:20260422T075022
CREATED:20220825T103517Z
LAST-MODIFIED:20220825T103517Z
UID:17273-1661558400-1661644799@kulturaludowa.pl
SUMMARY:Etnopiknik
DESCRIPTION:Biblioteka Kraków zaprasza na Etnopiknik\, który odbędzie się w najbliższą sobotę tj. 27 sierpnia w godz. 11.00-16.00 w ogrodzie przy Bibliotece Głównej (ul. Powroźnicza 2). \nW programie m.in.: pokaz tradycyjnych oczepin weselnych przygotowany przez Teatr Regionalny Złoty Róg działający przy Towarzystwie Przyjaciół Bronowic\, występ kapeli\, warsztaty rękodzieła artystycznego\, pokaz mody koronkowej przygotowany przez członkinie Koła Robótek Ręcznych „Szydełko” działającego przy PZG Oddział Małopolski\, przegląd wieńców\, bukietów i zielników zgłoszonych do konkursu\, wręczenie nagród w konkursie fotograficznym „EtnoKraków”\, warsztaty tańca\, występ Aleksandra „Makino” Kobylińskiego i wiele innych. Szczegółowy program przekazuję w załączeniu. \nWydarzenie organizowane jest w ramach projektu „Moc podmiejskich tradycji” dofinansowanego ze środków Ministra Kultury i Dziedzictwa Narodowego w ramach programu Narodowego Centrum Kultury: EtnoPolska. Edycja 2022.
URL:https://kulturaludowa.pl/wydarzenia/etnopiknik/
LOCATION:Biblioteka Kraków. Biblioteka Główna\, Powroźnicza 2\, Kraków\, Małopolskie\, 30-307\, Poland
CATEGORIES:Dla dzieci,Festiwale,Polecane
ATTACH;FMTTYPE=image/jpeg:https://kulturaludowa.pl/wp-content/webpc-passthru.php?src=https://kulturaludowa.pl/wp-content/uploads/etnopiknik-krakow-2022.jpg&amp;nocache=1
END:VEVENT
BEGIN:VEVENT
DTSTART;VALUE=DATE:20220830
DTEND;VALUE=DATE:20220831
DTSTAMP:20260422T075022
CREATED:20220825T103939Z
LAST-MODIFIED:20220825T103939Z
UID:17278-1661817600-1661903999@kulturaludowa.pl
SUMMARY:Wystawy Anny Bałdygi „Wycinanka kurpiowska na tkaninie”
DESCRIPTION:Muzeum Budownictwa Ludowego – Park Etnograficzny w Olsztynku serdecznie zaprasza na otwarcie wystawy Anny Bałdygi „Wycinanka kurpiowska na tkaninie” prezentowanej w Chałupie ze wsi Burdajny 30 sierpnia 2022 o godz. 13:00. \nDyrektor Muzeum Budownictwa Ludowego Parku Etnograficznego w Olsztynku serdecznie zaprasza na otwarcie wystawy pt. „Wycinanka Kurpiowska na tkaninie” Anny Bałdygi prezentowanej w Chałupie ze wsi Burdajny. Wystawa obejmuje 16 tkanin dwuosnowowych\, na które naniesiono wzory tradycyjnych wycinanek kurpiowskich. \nAnna Bałdyga to polska tkaczka\, śpiewaczka\, rękodzielniczka\, a także laureatka Nagrody im. Oskara Kolberga. Jest rodowitą kurpianką\, która od około 40 lat mieszka w Mazuchówce\, małej wsi na Mazurach. Tka na tradycyjnych krosnach. Uczy tkactwa w różnych szkołach rzemiosła\, organizuje warsztaty. Prowadzi swoją pracownię plastyki obrzędowej. \nPo wystawie oprowadzi autorka prac Anna Bałdyga. Podczas wernisażu będzie można posłuchać występu Stanisława Bałdygi\, który zagra na polskim ludowym instrumencie muzycznym – harmonii pedałowej. \nWstęp na wydarzenie jest bezpłatny. Serdecznie zapraszamy!
URL:https://kulturaludowa.pl/wydarzenia/wystawy-anny-baldygi-wycinanka-kurpiowska-na-tkaninie/
LOCATION:Muzeum Budownictwa Ludowego-Park Etnograficzny w Olsztynku\, ul. Leśna 23\, Olsztynek\, Warmińsko-Mazurskie\, 11-015\, Polska
CATEGORIES:Polecane,Wystawy
ATTACH;FMTTYPE=image/jpeg:https://kulturaludowa.pl/wp-content/webpc-passthru.php?src=https://kulturaludowa.pl/wp-content/uploads/wycinanka-kurpiowska-na-tkaninie-plakat.jpg&amp;nocache=1
ORGANIZER;CN="Muzeum Budownictwa Ludowego-Park Etnograficzny w Olsztynku":MAILTO:sekretariat@muzeumolsztynek.com.pl
END:VEVENT
BEGIN:VEVENT
DTSTART;VALUE=DATE:20220831
DTEND;VALUE=DATE:20220901
DTSTAMP:20260422T075022
CREATED:20220324T093118Z
LAST-MODIFIED:20220324T093118Z
UID:16995-1661904000-1661990399@kulturaludowa.pl
SUMMARY:II edycja konkursu fotograficzno-krajoznawczego „4 pory roku” w Etnocentrum Ziemi Krośnieńskiej
DESCRIPTION:To już drugi taki konkurs w Etnocentrum\, który łączy fotografię z poznawaniem naszego regionu. W bieżącej edycji konkursu\, organizator zachęca do zgłaszania zdjęć przedstawiających dworki zlokalizowane na terenie ziemi krośnieńskiej. Cudze chwalimy\, swego nie znamy! \nW głównych założeniach konkursu znajdziemy zapis o pobudzaniu zainteresowania mieszkańców i\nturystów odwiedzjących region\, materialnym i niematerialnym dziedzictwem ziemi krośnieńskiej oraz\nchęci wzmocnienia świadomości dziedzictwa kulturowego\, przekazywanego we wspomnieniach\nnajstarszych. Nie można także zapomnieć o szansie na doskonalenie swojego warsztatu\nfotograficznego\, jaki zapewnia udział w konkursie. \nKonkurs ma zasięg ogólnopolski i zostanie przeprowadzony w następujących kategoriach wiekowych:\n– osoby urodzone w latach 2004 – 2008\,\n– osoby urodzone przed 2004 rokiem. \nDla autorów prac zwycięskich\, organizator przewiduje nagrody finansowe. \nNa pracę nadesłaną na konkurs powinno się składać zdjęcie dworku z ziemi krośnieńskiej oraz opis\nzawierający lokalizację dworku\, jego historię i/lub ciekawostki z nim związane. \nPrace należy dostarczyć pocztą e-mail w terminie od 13 marca 2022 r. do 31 sierpnia 2022 r. do\nEtnocentrum Ziemi Krośnieńskiej\, na adres: biuro@etnocentrum.pl. \nSzczegółowy regulamin konkursu oraz karta zgłoszenia znajdują się na stronie internetowej:\nhttps://www.etnocentrum.pl/pl/post/konkurs_fotograficzno-krajoznawczy-dworki \nDodatkowe informacje można uzyskać dzwoniąc na numer: 13 47 43 512. Zachęcamy do udziału!
URL:https://kulturaludowa.pl/wydarzenia/ii-edycja-konkursu-fotograficzno-krajoznawczego-4-pory-roku-w-etnocentrum-ziemi-krosnienskiej/
LOCATION:Etnocentrum Ziemi Krośnieńskiej\, ul. Kolejowa 29 a\, Krosno\, Podkarpackie\, 38-400\, Poland
CATEGORIES:Konkursy / Przeglądy
ATTACH;FMTTYPE=image/jpeg:https://kulturaludowa.pl/wp-content/webpc-passthru.php?src=https://kulturaludowa.pl/wp-content/uploads/konkurs-4-pory-roku-edycja-ii-w-etnocentrum.jpg&amp;nocache=1
ORGANIZER;CN="Etnocentrum Ziemi Kro%C5%9Bnie%C5%84skiej":MAILTO:biuro@etnocentrum.pl
END:VEVENT
END:VCALENDAR