BEGIN:VCALENDAR
VERSION:2.0
PRODID:-//KulturaLudowa.pl - ECPv6.15.20//NONSGML v1.0//EN
CALSCALE:GREGORIAN
METHOD:PUBLISH
X-WR-CALNAME:KulturaLudowa.pl
X-ORIGINAL-URL:https://kulturaludowa.pl
X-WR-CALDESC:Wydarzenia dla KulturaLudowa.pl
REFRESH-INTERVAL;VALUE=DURATION:PT1H
X-Robots-Tag:noindex
X-PUBLISHED-TTL:PT1H
BEGIN:VTIMEZONE
TZID:Europe/Warsaw
BEGIN:DAYLIGHT
TZOFFSETFROM:+0100
TZOFFSETTO:+0200
TZNAME:CEST
DTSTART:20210328T010000
END:DAYLIGHT
BEGIN:STANDARD
TZOFFSETFROM:+0200
TZOFFSETTO:+0100
TZNAME:CET
DTSTART:20211031T010000
END:STANDARD
BEGIN:DAYLIGHT
TZOFFSETFROM:+0100
TZOFFSETTO:+0200
TZNAME:CEST
DTSTART:20220327T010000
END:DAYLIGHT
BEGIN:STANDARD
TZOFFSETFROM:+0200
TZOFFSETTO:+0100
TZNAME:CET
DTSTART:20221030T010000
END:STANDARD
BEGIN:DAYLIGHT
TZOFFSETFROM:+0100
TZOFFSETTO:+0200
TZNAME:CEST
DTSTART:20230326T010000
END:DAYLIGHT
BEGIN:STANDARD
TZOFFSETFROM:+0200
TZOFFSETTO:+0100
TZNAME:CET
DTSTART:20231029T010000
END:STANDARD
END:VTIMEZONE
BEGIN:VEVENT
DTSTART;VALUE=DATE:20220604
DTEND;VALUE=DATE:20220605
DTSTAMP:20260422T042800
CREATED:20220524T090355Z
LAST-MODIFIED:20220524T090355Z
UID:17100-1654300800-1654387199@kulturaludowa.pl
SUMMARY:IX Spotkanie z muzyką i tańcem Rzeszowszczyzny  “Łojdiridi”
DESCRIPTION:Po niemal 2\,5-letniej przerwie wracają organizowane przez Stowarzyszenie “Gdzieś Tu” Spotkania z muzyką i tańcem Rzeszowszczyzny “Łojdiridi”. Spotkamy się w Kolbuszowej Górnej 4 czerwca 2022 r. \nDziewiąte “Łojdiridi” będzie wyglądać podobnie jak poprzednie edycje. Rozpocznie się o 17.00 nauką tańców regionalnych z okolic Kolbuszowej\, którą poprowadzi Artur Szlachetka\, badacz folkloru tanecznego\, wiceprezes Stowarzyszenia “Gdzieś Tu” oraz prowadzący grupę taneczną w ramach Zespołu Ludowego “Górniacy”. Dzieci w tym czasie będą mogły spędzić czas uczestnicząc w dawnych grach i zabawach. \nPunktem kulminacyjnym każdego “Łojdiridi” jest oczywiście potańcówka. Pierwsze edycje przybierały formę zbliżoną do jam session – muzycy różnych kapel wspólnie grali tradycyjne utwory. Od szóstej edycji nastąpiła nieznaczna zmiana formuły – na przemian grają dwie kapele. W tym wypadku organizatorzy zestawili dwa składy z różnych regionów Rzeszowszczyzny. \nMuzykę ziemi dębickiej\, ropczyckiej i rzeszowskiej zagra Kapela Iskierczanie\, powstała w 2017 r. z inicjatywy Anny i Stanisława Czaplów. Obecnie gra w trzyosobowym składzie instrumentalnym (Jakub\nCzapla – skrzypce prym\, Bogusław Kamiński – skrzypce sekund\, Stanisław Czapla – basy) z towarzyszeniem grupy śpiewaczej. Jest częścią Zespołu Iskierczanie z Dębicy. \nDrugi zespół\, który zagra do tańca to Kapela Łola\, która wykonuje muzykę pogranicza Lasowiaków i Rzeszowiaków. Została założona w Kolbuszowej w 2018 r. przez muzyków Kapeli Jana Boronia\, która musiała zaprzestać działalności – skrzypaczkę Aleksandrę Siuzdak i basistę Janusza Radwańskiego. W 2019 r. dołączył sekundzista Wojciech Dulski i w takim trzyosobowym składzie instrumentalnym gra\ngłównie do tańca oraz w czasie warsztatów. \nImpreza ma charakter lokalny i integrujący mieszkańców Kolbuszowej Górnej\, więc do pomocy włączył się Zespół Ludowy “Górniacy” i miejscowe KGW\, zaś Centrum Kultury Wsi zostało udostępnione przez Miejski Dom Kultury w Kolbuszowej. \nOczywiście mile widziani są wszyscy miłośnicy tradycyjnego grania i tańca w każdym wieku\, nie tylko z województwa podkarpackiego\, ale także spoza niego. \nWstęp jest bezpłatny\, choć organizatorzy przewidzieli możliwość finansowego wsparcia kolejnych wydarzeń przez uczestników.
URL:https://kulturaludowa.pl/wydarzenia/ix-spotkanie-z-muzyka-i-tancem-rzeszowszczyzny-lojdiridi/
LOCATION:Kolbuszowa Górna\, Kolbuszowa Górna\, Poland
CATEGORIES:Dla dzieci,Polecane,Potańcówki
ATTACH;FMTTYPE=image/jpeg:https://kulturaludowa.pl/wp-content/webpc-passthru.php?src=https://kulturaludowa.pl/wp-content/uploads/gdzies-tu-kolbuszowa.jpg&amp;nocache=1
END:VEVENT
BEGIN:VEVENT
DTSTART;VALUE=DATE:20220609
DTEND;VALUE=DATE:20220610
DTSTAMP:20260422T042800
CREATED:20220606T081910Z
LAST-MODIFIED:20220606T081910Z
UID:17120-1654732800-1654819199@kulturaludowa.pl
SUMMARY:Warsztaty śpiewu podhalańskiego i Warsztaty gry na instrumentach pasterskich
DESCRIPTION:Muzeum Ludowych Instrumentów Muzycznych w Szydłowcu zaprasza na Warsztaty śpiewu podhalańskiego oraz gry na instrumentach pasterskich\, które odbędą się 9 czerwca 2022 r.\, przy ul. Kąpielowej 8. \nZajęcia poprowadzą Dorota Majerczyk – etnomuzykolog i badacz kultury Podhala\, animatorka ruchu folklorystycznego oraz Piotr Majerczyk – multiinstrumentalista\, utytułowany budowniczy ludowych instrumentów muzycznych. \nWarsztaty dla dzieci powyżej 7 lat.
URL:https://kulturaludowa.pl/wydarzenia/warsztaty-spiewu-podhalanskiego-i-warsztaty-gry-na-instrumentach-pasterskich/
LOCATION:Muzeum Ludowych Instrumentów Muzycznych w Szydłowcu\, ul. Gen J. Sowińskiego 2\, Szydłowiec\, Mazowieckie\, 26-500\, Polska
CATEGORIES:Dla dzieci,Polecane,Warsztaty
ATTACH;FMTTYPE=image/jpeg:https://kulturaludowa.pl/wp-content/webpc-passthru.php?src=https://kulturaludowa.pl/wp-content/uploads/warstzaty-szydlowiec-768x644-1.jpg&amp;nocache=1
ORGANIZER;CN="Muzeum Ludowych Instrument%C3%B3w Muzycznych w Szyd%C5%82owcu":MAILTO:biuro@muzeuminstrumentow.pl
END:VEVENT
BEGIN:VEVENT
DTSTART;VALUE=DATE:20220612
DTEND;VALUE=DATE:20220613
DTSTAMP:20260422T042800
CREATED:20220606T090134Z
LAST-MODIFIED:20220606T090134Z
UID:17145-1654992000-1655078399@kulturaludowa.pl
SUMMARY:Przegląd Pieśni i Muzyki Ludowej XXXVIII KROPA Korczyna 2022
DESCRIPTION:Gminny Ośrodek Kultury w Korczynie\, Wójt Gminy Korczyna\, Stowarzyszenie Regionalizm oraz Wojewódzki Ośrodek Kultury w Rzeszowie zapraszają na Przegląd Pieśni i Muzyki Ludowej XXXVIII KROPA Korczyna 2022\, który odbędzie się 12 czerwca w Domu Strażaka w Korczynie. \nLista występujących na stronie www.gok.korczyna.pl \nPrzegląd Pieśni i Muzyki Ludowej XXXVIII KROPA Korczyna 2022
URL:https://kulturaludowa.pl/wydarzenia/przeglad-piesni-i-muzyki-ludowej-xxxviii-kropa-korczyna-2022/
LOCATION:Dom Strażaka w Korczynie\, ul. Jana Szczepanika 2\, Korczyna\, Podkarpackie\, 38-420\, Poland
CATEGORIES:Konkursy / Przeglądy,Polecane
ATTACH;FMTTYPE=image/jpeg:https://kulturaludowa.pl/wp-content/webpc-passthru.php?src=https://kulturaludowa.pl/wp-content/uploads/plakat-kropa-2022.jpg&amp;nocache=1
ORGANIZER;CN="Gminny O%C5%9Brodek Kultury w Korczynie":MAILTO:gok@korczyna.pl
END:VEVENT
BEGIN:VEVENT
DTSTART;VALUE=DATE:20220614
DTEND;VALUE=DATE:20220615
DTSTAMP:20260422T042800
CREATED:20220614T123713Z
LAST-MODIFIED:20220614T123713Z
UID:17185-1655164800-1655251199@kulturaludowa.pl
SUMMARY:„Dolny Śląsk” – wyjątkowy koncert Joszka Brody
DESCRIPTION:W najbliższy wtorek\, 14 czerwca o godz.19.00\, w Studiu Koncertowym Polskiego Radia im. Witolda\nLutosławskiego odbędzie się wyjątkowy koncert inauguracyjny „Dolny Śląsk” w ramach projektu\nkulturalno – edukacyjnego „Historia niewypłakana”. Na scenie wystąpi Joszko Broda z zespołem oraz goście: „Łastiwoczka&quot; „Pojana” i „Ze Świrza”. Streaming na portalu\, na Facebooku i na kanale\nYouTube Radiowego Centrum Kultury Ludowej\, które jest współorganizatorem wydarzenia. \nPolskie Radio\, wypełniając misję nadawcy publicznego\, dba o szerzenie elementów dziedzictwa\nkulturowego oraz rozpowszechnianie treści mających na celu podtrzymywanie rodzimych tradycji\nkulturowych Rzeczypospolitej\, czego dowodem jest m. in. włączenie się w to wydarzenie. Dzięki\nniemu słuchacz nie tylko ma szansę na zapoznanie się z elementami dziedzictwa kultury obecnej na\nDolnym Śląsku\, ale również na uświadomienie fenomenu kultury Dolnego Śląska\, jako miejsca\nreprezentującego różne kultury Rzeczypospolitej. Dolny Śląsk jest zagłębiem różnorodnych\nprzejawów tradycji kultywowanych w środowiskach lokalnych. Ocalało wiele elementów dziedzictwa\nprzyniesionego tu przez ekspatriantów z Kresów\, polskich reemigrantów z Bośni i Bukowiny oraz \nprzesiedleńców\, a także ekspatriantów łemkowskich. Pieśni\, które zostały przeniesione na Dolny\nŚląsk przetrwały\, ponieważ ich wspólne śpiewanie budowało poczucie bezpieczeństwa w nowym\nmiejscu. \nProjekt „Historia niewypłakana” zakłada dotarcie do szerokiej liczby osób z przekazem ukazującym\nDolny Śląsk jako miejsce wyjątkowe ze względu na wielokulturowość i troskę o własne dziedzictwo.\nCelem koncertu „Dolny Śląsk” jest pokazanie fenomenu kulturowego oraz ukazanie\, że uczestnictwo w jego przekazie jest niezwykle cenne dla budowania tożsamości. \nW trakcie koncertu zaprezentowane zostaną pieśni kultur Dolnego Śląska w wykonaniu Joszka Brody i\njego zespołu. W wydarzeniu wezmą udział także przedstawiciele kultur kresowych: z Gierałtowa\nzespół „Ze Świrza”\, zespół „Pojana” reprezentujący kulturę górali czadeckich oraz łemkowska grupa\n„Łastiwoczka”. Ich działalność udowadnia\, że ich wkład w polską kulturę ma znaczenie\, a kontynuacja\nprzekazu pokoleniowego odnosi na tym terenie w wielu miejscach powodzenie. \nWystąpią: Joszko Broda z zespołem w składzie: Joszko Broda– instrumenty etniczne\, śpiew\, Dawid\nBroszczakowski – instrumenty klawiszowe\, Marcin Hałat – skrzypce\, Patryk Bizukojć – gitara basowa\,\nBrian Bothwell – perkusja\, Chór Rodziny Brodów (Debora Broda\, Maciej Broda\, Tomasz Broda\,\nMikołaj Broda\, Jeremi Broda\, Iwo Broda i Maria Broda oraz Wiesława Kawoluk). Goście: Chór\nŁemków z zespołu „Łastiwoczka&quot;\, górale czadeccy z zespołu „Pojana” oraz przedstawiciele kultury\nkresowej z zespołu „Ze Świrza”: Łucja Szuter i Martyna Ziomek. \nKoncert poprowadzi Magda Tejchma – dziennikarka Polskiego Radia.\nOrganizator: Instytut Pamięci Narodowej.\nWspółorganizator: Radiowe Centrum Kultury Ludowej Polskiego Radia.
URL:https://kulturaludowa.pl/wydarzenia/dolny-slask-wyjatkowy-koncert-joszka-brody/
LOCATION:Online\, Online\, Online\, Online
CATEGORIES:Koncerty,Online,Polecane
ATTACH;FMTTYPE=image/jpeg:https://kulturaludowa.pl/wp-content/webpc-passthru.php?src=https://kulturaludowa.pl/wp-content/uploads/joszko-1200x660-1.jpg&amp;nocache=1
END:VEVENT
END:VCALENDAR