BEGIN:VCALENDAR
VERSION:2.0
PRODID:-//KulturaLudowa.pl - ECPv6.15.20//NONSGML v1.0//EN
CALSCALE:GREGORIAN
METHOD:PUBLISH
X-ORIGINAL-URL:https://kulturaludowa.pl
X-WR-CALDESC:Wydarzenia dla KulturaLudowa.pl
REFRESH-INTERVAL;VALUE=DURATION:PT1H
X-Robots-Tag:noindex
X-PUBLISHED-TTL:PT1H
BEGIN:VTIMEZONE
TZID:Europe/Warsaw
BEGIN:DAYLIGHT
TZOFFSETFROM:+0100
TZOFFSETTO:+0200
TZNAME:CEST
DTSTART:20210328T010000
END:DAYLIGHT
BEGIN:STANDARD
TZOFFSETFROM:+0200
TZOFFSETTO:+0100
TZNAME:CET
DTSTART:20211031T010000
END:STANDARD
BEGIN:DAYLIGHT
TZOFFSETFROM:+0100
TZOFFSETTO:+0200
TZNAME:CEST
DTSTART:20220327T010000
END:DAYLIGHT
BEGIN:STANDARD
TZOFFSETFROM:+0200
TZOFFSETTO:+0100
TZNAME:CET
DTSTART:20221030T010000
END:STANDARD
BEGIN:DAYLIGHT
TZOFFSETFROM:+0100
TZOFFSETTO:+0200
TZNAME:CEST
DTSTART:20230326T010000
END:DAYLIGHT
BEGIN:STANDARD
TZOFFSETFROM:+0200
TZOFFSETTO:+0100
TZNAME:CET
DTSTART:20231029T010000
END:STANDARD
END:VTIMEZONE
BEGIN:VEVENT
DTSTART;VALUE=DATE:20220121
DTEND;VALUE=DATE:20220314
DTSTAMP:20260421T230843
CREATED:20220127T093039Z
LAST-MODIFIED:20220127T093039Z
UID:16806-1642723200-1647215999@kulturaludowa.pl
SUMMARY:Malarstwo ludowe\, nieprofesjonalne i art brut z kolekcji Muzeum Okręgowego w Nowym Sączu
DESCRIPTION:Na wystawie prezentowanej w Muzeum Nikifora w Krynicy-Zdroju obejrzymy malarstwo ludowe z kolekcji Muzeum Okręgowego w Nowym Sączu. Wystawa czynna od 21 styczna do 13 marca. \nWystawa prezentuje współczesne malarstwo z bogatej kolekcji sztuki nieprofesjonalnej sądeckiego muzeum. Ozdobą kolekcji są obrazy Nikifora\, ale także prace wielu innych\, nie tak sławnych\, ale znakomitych\, związanych z Sądecczyzną artystów: Marii Wnęk z Olszanki\, Piotra Kwita z Zalesia czy Piotra Zelka z Berestu. \nObok ich dzieł na wystawie zobaczyć można obrazy nieco zapomnianych już twórców\, jak np. Jana Niewoli z Muszyny czy Andrzeja Mazurkiewicza z Nowego Sącza\, a także współczesne malarstwo ludowe na szkle z Paszyna\, z niezwykłej piękności Madonnami Marii Jasińskiej\, wieloletniej gospodyni na paszyńskiej plebanii. Niektóre prezentowane na wystawie prace pokazane są po raz pierwszy od ponad 50 lat. \nWystawa „Malarstwo ludowe\, nieprofesjonalne i art brut z kolekcji Muzeum Okręgowego w Nowym Sączu”. \nMuzeum Nikifora\nBulwary Dietla 19\nKrynica – Zdrój
URL:https://kulturaludowa.pl/wydarzenia/malarstwo-ludowe-nieprofesjonalne-i-art-brut-z-kolekcji-muzeum-okregowego-w-nowym-saczu/
LOCATION:Muzeum Nikifora w Krynicy-Zdroju\, Bulwary Dietla 19\, Krynica-Zdrój\, Małopolskie\, 33-380\, Polska
CATEGORIES:Wystawy
ATTACH;FMTTYPE=image/jpeg:https://kulturaludowa.pl/wp-content/webpc-passthru.php?src=https://kulturaludowa.pl/wp-content/uploads/wystawa-krynica-2022-ok-rgb.jpg&amp;nocache=1
END:VEVENT
BEGIN:VEVENT
DTSTART;VALUE=DATE:20220309
DTEND;VALUE=DATE:20220310
DTSTAMP:20260421T230843
CREATED:20220307T104848Z
LAST-MODIFIED:20220307T104905Z
UID:16950-1646784000-1646870399@kulturaludowa.pl
SUMMARY:Spotkanie poświęcone pamięci Profesora Jerzego Bartmińskiego
DESCRIPTION:W imieniu lubelskiego oddziału Polskiego Towarzystwa Ludoznawczego oraz Profesora Jana Adamowskiego chcielibyśmy zaprosić Państwa na zebranie poświęcone pamięci Profesora Jerzego Bartmińskiego.  \nProfesor Jerzy Bartmiński przez wiele lat był członkiem redakcji „Literatury Ludowej” (wydawanej przez Polskie Towarzystwo Ludoznawcze)\, od lat współpracował z naszym oddziałem PTL\, wiele razy uczestniczył gościnnie w naszych spotkaniach jako referent i jako dyskutant. \nZaproszenie do rozmowy o Profesorze Jerzym Bartmińskim przyjęli jego uczniowie\, współpracownicy i przyjaciele. Tematem tego spotkania pragniemy uczynić odpowiedź na pytanie: „Za co cenimy Profesora Jerzego Bartmińskiego?”. \nChcielibyśmy zachęcić wszystkich Państwa do podzielenia się podczas tego spotkania swoimi wspomnieniami o Profesorze Bartmińskim. \nZebranie odbędzie się on-line 9 marca 2022 roku w godzinach 17.00-19.00 na platformie  MS Teams. \nLink do spotkania: \nhttps://teams.microsoft.com/l/meetup-join/19%3ameeting_MDIwMzM3OWItMzg0MC00YmU4LWJiZDgtMjNlZDQ3YzIyMGE5%40thread.v2/0?context=%7b%22Tid%22%3a%2280dbd34a-9b20-490b-ac49-035af103ab2b%22%2c%22Oid%22%3a%2268324dbd-6367-408d-95c4-e66ce2dc89ba%22%7d  \nW przypadku problemów z dołączeniem do spotkania prosimy wysyłać e-maila na adres: mariolate@wp.pl lub bmaksymiukpacek@gmail.com  \nW imieniu organizatorów\nJan Adamowski\nMariola Tymochowicz\nBeata Maksymiuk-Pacek
URL:https://kulturaludowa.pl/wydarzenia/spotkanie-poswiecone-pamieci-profesora-jerzego-bartminskiego/
LOCATION:Online\, Online\, Online\, Online
CATEGORIES:Online,Polecane,Spotkania
ATTACH;FMTTYPE=image/jpeg:https://kulturaludowa.pl/wp-content/webpc-passthru.php?src=https://kulturaludowa.pl/wp-content/uploads/jezry-bartminski.jpg&amp;nocache=1
END:VEVENT
BEGIN:VEVENT
DTSTART;VALUE=DATE:20220329
DTEND;VALUE=DATE:20220330
DTSTAMP:20260421T230843
CREATED:20220329T103531Z
LAST-MODIFIED:20220329T103531Z
UID:17004-1648512000-1648598399@kulturaludowa.pl
SUMMARY:Finisaż wystawy „Waldek i przyjaciele. Waldemar Styperek in memoriam”
DESCRIPTION:W przestrzeni monograficznej wystawy będącej formą upamiętnienia zmarłego rzeźbiarza ludowego z podgrudziądzkiej Rudy – Waldemara Styperka\, wraz z jej kuratorem Łukaszem Ciemińskim przyjrzymy się fenomenowi pojęcia „ludowości” we współczesnej plastyce nieprofesjonalnej. Co dla twórców wydaje się być „ludowym”\, co za „ludowe” uznają etnografowie\, a co historycy sztuki? \nPoszukiwanie odpowiedzi na to niełatwe pytanie będzie świetną okazją\, by zapoznać się z twórczością zarówno samego Waldemara Styperka\, jak i najbardziej reprezentatywnych dla zjawiska sztuki neoludowej artystów\, których prace znajdują się w kolekcji gromadzonej latami przez Danutę i Waldemara Styperków. \nZapraszamy we wtorek\, 29 marca 2022 r. o godzinie 17.00\, spotkanie odbędzie się w salach Muzeum przy ulicy Spichrzowej\, w Spichrzu 11\, w przestrzeni wystawy. Wstęp wolny. \nOrganizator: Muzeum im. ks. dr. Władysława Łęgi w Grudziądzu
URL:https://kulturaludowa.pl/wydarzenia/finisaz-wystawy-waldek-i-przyjaciele-waldemar-styperek-in-memoriam/
LOCATION:Muzeum im. ks. dr. Władysława Łęgi w Grudziądzu\, Wodna 3\, Grudziądz\, Kujawsko-Pomorskie\, 86-300\, Poland
CATEGORIES:Polecane,Spotkania,Wystawy
ATTACH;FMTTYPE=image/jpeg:https://kulturaludowa.pl/wp-content/webpc-passthru.php?src=https://kulturaludowa.pl/wp-content/uploads/waldek-i-przyjaciele-wystawa-grudziadz.jpg&amp;nocache=1
END:VEVENT
END:VCALENDAR