BEGIN:VCALENDAR
VERSION:2.0
PRODID:-//KulturaLudowa.pl - ECPv6.15.20//NONSGML v1.0//EN
CALSCALE:GREGORIAN
METHOD:PUBLISH
X-WR-CALNAME:KulturaLudowa.pl
X-ORIGINAL-URL:https://kulturaludowa.pl
X-WR-CALDESC:Wydarzenia dla KulturaLudowa.pl
REFRESH-INTERVAL;VALUE=DURATION:PT1H
X-Robots-Tag:noindex
X-PUBLISHED-TTL:PT1H
BEGIN:VTIMEZONE
TZID:Europe/Warsaw
BEGIN:DAYLIGHT
TZOFFSETFROM:+0100
TZOFFSETTO:+0200
TZNAME:CEST
DTSTART:20200329T010000
END:DAYLIGHT
BEGIN:STANDARD
TZOFFSETFROM:+0200
TZOFFSETTO:+0100
TZNAME:CET
DTSTART:20201025T010000
END:STANDARD
BEGIN:DAYLIGHT
TZOFFSETFROM:+0100
TZOFFSETTO:+0200
TZNAME:CEST
DTSTART:20210328T010000
END:DAYLIGHT
BEGIN:STANDARD
TZOFFSETFROM:+0200
TZOFFSETTO:+0100
TZNAME:CET
DTSTART:20211031T010000
END:STANDARD
BEGIN:DAYLIGHT
TZOFFSETFROM:+0100
TZOFFSETTO:+0200
TZNAME:CEST
DTSTART:20220327T010000
END:DAYLIGHT
BEGIN:STANDARD
TZOFFSETFROM:+0200
TZOFFSETTO:+0100
TZNAME:CET
DTSTART:20221030T010000
END:STANDARD
END:VTIMEZONE
BEGIN:VEVENT
DTSTART;VALUE=DATE:20211215
DTEND;VALUE=DATE:20211216
DTSTAMP:20260421T172320
CREATED:20210107T113437Z
LAST-MODIFIED:20220127T113819Z
UID:16850-1639526400-1639612799@kulturaludowa.pl
SUMMARY:Nowe wydawnictwo Muzeum Wsi Lubelskie – promocja
DESCRIPTION:Zapraszamy na konferencję prasową poświęconą najnowszej publikacji Muzeum Wsi Lubelskiej pt. Wieś-dwór-miasteczko. Historia zapisuje – Muzeum Wsi Lubelskiej opowiada. Katalog będzie opowiadał o koegzystencji mieszkańców dawnych wsi\, miasteczek i dworów ziemiańskich w okresie od schyłku XIX w. po ostatnie lata II Rzeczypospolitej. \nW wydawnictwie zaprezentowane zostaną ekspozycje skansenowskie\, zabytki\, archiwalia\, w tym wywiady i źródła ikonograficzne pochodzące ze zbiorów naszego Muzeum i nie tylko. \nWydawnictwo powstało w ramach zadania Wieś – dwór – miasteczko. Przygotowanie i wydanie katalogu ekspozycji i zabytków Muzeum Wsi Lubelskiej w Lublinie dofinansowanego ze środków Ministra Kultury i Dziedzictwa Narodowego pochodzących z Funduszu Promocji Kultury. \nKonferencja prasowa odbędzie się 15 grudnia (środa) 2021 r.\, o godzinie 11:00 w sali szkoły z Bobrownik (sektor Miasteczko) w Muzeum Wsi Lubelskiej\, al. Warszawska 96.
URL:https://kulturaludowa.pl/wydarzenia/nowe-wydawnictwo-muzeum-wsi-lubelskie-promocja/
LOCATION:Muzeum Wsi Lubelskiej\, al. Warszawska 96\, Lublin\, Lubelskie\, 20-824\, Polska
CATEGORIES:Spotkania
ATTACH;FMTTYPE=image/jpeg:https://kulturaludowa.pl/wp-content/webpc-passthru.php?src=https://kulturaludowa.pl/wp-content/uploads/zaproszenie-skansen-lubelski-wydawnictwo.jpg&amp;nocache=1
ORGANIZER;CN="Muzeum Wsi Lubelskiej":MAILTO:skansen@skansen.lublin.pl
END:VEVENT
BEGIN:VEVENT
DTSTART;VALUE=DATE:20211219
DTEND;VALUE=DATE:20211220
DTSTAMP:20260421T172320
CREATED:20211217T184007Z
LAST-MODIFIED:20211217T184007Z
UID:16730-1639872000-1639958399@kulturaludowa.pl
SUMMARY:Jarmark Bożonarodzeniowy w Miasteczku Galicyjskim
DESCRIPTION:Jak co roku o tej porze Muzeum Okręgowe w nowym Sączu zaprasza na Jarmark Bożonarodzeniowy. Do odwiedzenia Miasteczka Galicyjskiego zachęcamy wszystkich\, którzy chcą zrobić świąteczne zakupy  – zarówno ozdoby choinkowe\, jak i wędliny\, przetwory i wypieki\, jednym zdaniem wszystko\, bez czego trudno wyobrazić sobie najpiękniejsze ze świąt. Dla dzieci przygotowaliśmy wiele atrakcji\, między innymi warsztaty artystyczne i spektakl teatralny. Będzie oczywiście święty Mikołaj. Kto w kończącym się roku był grzeczny\, może liczyć na prezencik od dostojnego\, brodatego gościa\, a kto grzeczny nie był…wiadomo. \n19 grudnia 2021 r. godz. 10.00 – 16.00 \nProgram: \n10.30    Oficjalne otwarcie Jarmarku\, Przywitanie Św. Mikołaja \n11.00    Koncert pieśni bożonarodzeniowych – Orkiestra Dęta Mystków \n11.30   Ścieżka renifera – gra terenowa dla dzieci \n12.00   Koncert pieśni bożonarodzeniowych – Orkiestra Dęta Mystków \n13.00    Konkurs „Nagrody za kupony” – ogłoszenie wyników cz. 1 \n13.30    Spektakl dla dzieci „Fabryka śniegu” – Teatr Trip (5 zł od osoby) \n14.30 – Widowisko „Po kolendzie idom Droby” – Zespół Regionalny Lipniczanie \n15.00    Konkurs „Nagrody za kupony” – ogłoszenie wyników cz. 2 \n15.30    Pożegnanie Św. Mikołaja \n16.00    Zakończenie Jarmarku \n11:00 – 16:00 – Warsztaty artystyczne: (10 zł za pakiet) \n„Tradycyjny łańcuch choinkowy” (Galeria Paszyńska) \n„Leśne ozdoby świąteczne” (Galeria Ratuszowa) \n„Dekorowanie pierników świątecznych” (Cukiernia) \nPonadto: Żywe choinki (Nadleśnictwo Stary Sącz); Pamiątkowe sesje świąteczne w Pracowni Fotografa w wykonaniu Doroty Ruśniak; Żywa szopka; Poczta Galicyjska; Świąteczne wypieki\, pieczywo; Regionalne wędliny\, dania wigilijne\, przetwory owocowe\, miody; Aromatyczne grzane wino\, słodkie pierniki; Podarunki\, artykuły dekoracyjne \nMiasteczko Galicyjskie\nNowy Sącz\, ul. Lwowska 226 \nWstęp bezpłatny
URL:https://kulturaludowa.pl/wydarzenia/jarmark-bozonarodzeniowy-w-miasteczku-galicyjskim-2/
LOCATION:Miasteczko Galicyjskie – Muzeum Okręgowe w Nowym Sączu\,  ul. Lwowska 226\, Nowy Sącz\, Małopolskie\, 33-300\, Polska
CATEGORIES:Dla dzieci,Koncerty,Polecane,Przedstawienia,Targi / Kiermasze / Jarmarki
ATTACH;FMTTYPE=image/jpeg:https://kulturaludowa.pl/wp-content/webpc-passthru.php?src=https://kulturaludowa.pl/wp-content/uploads/jarmark-bozonarodzeniowy-nowy-sacz-2021.jpg&amp;nocache=1
END:VEVENT
END:VCALENDAR