BEGIN:VCALENDAR
VERSION:2.0
PRODID:-//KulturaLudowa.pl - ECPv6.15.20//NONSGML v1.0//EN
CALSCALE:GREGORIAN
METHOD:PUBLISH
X-ORIGINAL-URL:https://kulturaludowa.pl
X-WR-CALDESC:Wydarzenia dla KulturaLudowa.pl
REFRESH-INTERVAL;VALUE=DURATION:PT1H
X-Robots-Tag:noindex
X-PUBLISHED-TTL:PT1H
BEGIN:VTIMEZONE
TZID:Europe/Warsaw
BEGIN:DAYLIGHT
TZOFFSETFROM:+0100
TZOFFSETTO:+0200
TZNAME:CEST
DTSTART:20200329T010000
END:DAYLIGHT
BEGIN:STANDARD
TZOFFSETFROM:+0200
TZOFFSETTO:+0100
TZNAME:CET
DTSTART:20201025T010000
END:STANDARD
BEGIN:DAYLIGHT
TZOFFSETFROM:+0100
TZOFFSETTO:+0200
TZNAME:CEST
DTSTART:20210328T010000
END:DAYLIGHT
BEGIN:STANDARD
TZOFFSETFROM:+0200
TZOFFSETTO:+0100
TZNAME:CET
DTSTART:20211031T010000
END:STANDARD
BEGIN:DAYLIGHT
TZOFFSETFROM:+0100
TZOFFSETTO:+0200
TZNAME:CEST
DTSTART:20220327T010000
END:DAYLIGHT
BEGIN:STANDARD
TZOFFSETFROM:+0200
TZOFFSETTO:+0100
TZNAME:CET
DTSTART:20221030T010000
END:STANDARD
END:VTIMEZONE
BEGIN:VEVENT
DTSTART;VALUE=DATE:20211106
DTEND;VALUE=DATE:20211107
DTSTAMP:20260421T153200
CREATED:20211105T112936Z
LAST-MODIFIED:20211105T112936Z
UID:16665-1636156800-1636243199@kulturaludowa.pl
SUMMARY:XXX Konkurs Kapel Dudziarskich im. Floriana i Piotra
DESCRIPTION:PROGRAM \nSobota\, 06.11.2021 r. \ngodz. 11.30 – 12.00 : przyjazd i rejestracja uczestników konkursu\ngodz. 12.00 -​ 15.00 : przesłuchania konkursowe\ngodz. 15.00 – 16.00: obiad\ngodz. 16.00 – 17.00 : korowód (ogranie rzeźby dudziarzy i złożenie kwiatów na grobach Floriana Ratajczaka i Anny Markiewicz)\ngodz. 17.00 ​- 18:00 : spotkanie z mistrzami – wspólne muzykowanie\ngodz. 18.00 – 18:30 : ogłoszenie wyników i prezentacja laureatów\ngodz. 18.30 – 22.00: „Koncert i Potańcówka” – występy zaproszonych artystów i potańcówka do muzyki tradycyjnej
URL:https://kulturaludowa.pl/wydarzenia/xxx-konkurs-kapel-dudziarskich-im-floriana-i-piotra/
LOCATION:Bukówiec Górny\, Bukówiec Górny\, Bukówiec Górny\, Wielkopolskie\, Polska
CATEGORIES:Konkursy / Przeglądy,Polecane
ATTACH;FMTTYPE=image/jpeg:https://kulturaludowa.pl/wp-content/webpc-passthru.php?src=https://kulturaludowa.pl/wp-content/uploads/xxx-konkurs-dudziarski-bokuwiec-gorny2021.jpg&amp;nocache=1
END:VEVENT
BEGIN:VEVENT
DTSTART;VALUE=DATE:20211119
DTEND;VALUE=DATE:20211120
DTSTAMP:20260421T153200
CREATED:20211118T094449Z
LAST-MODIFIED:20211118T104622Z
UID:16691-1637280000-1637366399@kulturaludowa.pl
SUMMARY:Skrzynie (jak) malowane
DESCRIPTION:Muzeum „Górnośląski Park Etnograficzny w Chorzowie”  zaprasza 19 listopada na VIII sesję konserwatorską „Malowana skrzynia – konserwacja mebli ludowych”. Podczas spotkania opowiemy z jakimi problemami boryka się konserwator podczas renowacji skrzyń\, czym dawniej zdobiono skrzynie i jak powstawały. Na zakończenie zaprosimy gości na uroczyste otwarcie wystawy <<Konserwacja malowanych skrzyń ze zbiorów Muzeum „Górnośląski Park Etnograficzny w Chorzowie”>>\, na której będzie można obejrzeć  polichromowaną skrzynię z Brennej – Leśnicy 1830 roku oraz dwie polichromowane skrzynie z Cynkowa z końca XIX wieku\, których konserwację przeprowadzono w 2021 roku. \nOd XVIII wieku do lat 80. XIX wieku \, skrzynia była jednym z podstawowych elementów wyposażenie dawnej izby chłopskiej. Służyła do przechowywania ubrań i cenniejszych przedmiotów\, a także stanowiła ważny element posagu panny młodej. Ze względu na bogactwo zdobień często umieszczano ją w widocznym miejscu izby. \nW kulturze tradycyjnej malowanie skrzyń było najczęściej stosowanym zabiegiem zdobniczym. Najpopularniejsze ornamentem były motywy roślinne. Występowały bukiety kwiatów w wazonach\, koszach lub dzbankach\, a wśród roślin najczęściej pojawiały się róże\, tulipany i goździki. Inną forma zdobieni skrzyń był mazerunek – technika naśladująca słoje drewna. \n– Zbiór malowanych skrzyń znajdujących się w Muzeum liczy ponad 30 eksponatów. Najstarszy w kolekcji jest obiekt z Koniakowa datowany na 1794 rok\, a najmłodszy jednobarwny model z Dębu powstał na początku XX wieku – mówi Barbara Klajmon\, kierownik Działu Obiektów i Zabytków Ruchomych. \nProgram konferencji w linku: \nhttp://muzeumgpe-chorzow.pl/pl/malowana-skrzynia-konserwacja-mebli-ludowych/
URL:https://kulturaludowa.pl/wydarzenia/skrzynie-jak-malowane/
LOCATION:Muzeum „Górnośląski Park Etnograficzny w Chorzowie”\, Ul. Parkowa 25\, Chorzów\, Śląskie\, 41-500\, Polska
CATEGORIES:Polecane,Spotkania,Wykłady / Konferencje
ATTACH;FMTTYPE=image/jpeg:https://kulturaludowa.pl/wp-content/webpc-passthru.php?src=https://kulturaludowa.pl/wp-content/uploads/skrzynie-malowane-chorzow.jpg&amp;nocache=1
ORGANIZER;CN="Muzeum %E2%80%9EG%C3%B3rno%C5%9Bl%C4%85ski Park Etnograficzny w Chorzowie%E2%80%9D":MAILTO:sekretariat@muzeumgpe-chorzow.pl
END:VEVENT
BEGIN:VEVENT
DTSTART;VALUE=DATE:20211130
DTEND;VALUE=DATE:20211201
DTSTAMP:20260421T153200
CREATED:20211118T103421Z
LAST-MODIFIED:20211118T104614Z
UID:16688-1638230400-1638316799@kulturaludowa.pl
SUMMARY:Duchowe świadectwa kapliczek przydrożnych
DESCRIPTION:Celem Konkursu jest popularyzacja charakterystycznych dla twórczości ludowej dziedzin sztuki zachowanych w kapliczkach przydrożnych\, a także wzmacnianie lokalnej tożsamości kulturowej i uczestnictwa w kulturze na poziomie regionalnym\, wzbudzenie zainteresowania polskim dziedzictwem kulturowym zachowanym w kapliczkach. Uczestnicy mają za zadanie przeanalizować najistotniejsze zagadnienia charakteryzujące estetykę wybranych obiektów i na ich podstawie stworzyć swoje autorskie realizacje malarskie. \nPula nagród w wysokości 10 000\,00 zł czeka na Laureatów! \nZachęcamy wszystkich twórców ludowych z całego kraju do wzięcia udziału. Jeszcze jest czas\, by przysiąść do płótna\, zainspirować się konkursowymi obiektami lokalnego kultu religijnego i wziąć udział w rywalizacji. \nNa zwycięzców czekają atrakcyjne nagrody finansowe i rzeczowe\, za zajęcie I miejsca – 5 000\,00 zł\, II – 3 000\,00 zł\, III – 2 000\,00 zł oraz wyróżnienia ufundowane przez Oddział Regionalny w Częstochowie Agencji Restrukturyzacji i Modernizacji Rolnictwa. \nTermin nadsyłania prac malarskich inspirowanych kapliczkami przydrożnymi w Konkursie „Duchowe świadectwa kapliczek przydrożnych”\, organizowanym przez Narodowy Instytut Kultury i Dziedzictwa Wsi został wydłużony do 30 listopada. \nInformacje nt. Konkursu – Paula Zasada: tel. 506 582 643\, e-mail: paula.zasada@nikidw.edu.pl
URL:https://kulturaludowa.pl/wydarzenia/duchowe-swiadectwa-kapliczek-przydroznych/
LOCATION:Narodowy Instytut Kultury i Dziedzictwa Wsi w Warszawie\, Krakowskie Przedmieście 66\, Warszawa\, Mazowieckie\, 00-322\, Polska
CATEGORIES:Konkursy / Przeglądy,Polecane
ATTACH;FMTTYPE=image/jpeg:https://kulturaludowa.pl/wp-content/webpc-passthru.php?src=https://kulturaludowa.pl/wp-content/uploads/kapliczka-slupowa-sw-tekli-w-woli-zycinskiej-4-960x590-1.jpg&amp;nocache=1
ORGANIZER;CN="Narodowy Instytut Kultury i Dziedzictwa Wsi":MAILTO:sekretariat@nikidw.edu.pl
END:VEVENT
END:VCALENDAR