BEGIN:VCALENDAR
VERSION:2.0
PRODID:-//KulturaLudowa.pl - ECPv6.15.20//NONSGML v1.0//EN
CALSCALE:GREGORIAN
METHOD:PUBLISH
X-ORIGINAL-URL:https://kulturaludowa.pl
X-WR-CALDESC:Wydarzenia dla KulturaLudowa.pl
REFRESH-INTERVAL;VALUE=DURATION:PT1H
X-Robots-Tag:noindex
X-PUBLISHED-TTL:PT1H
BEGIN:VTIMEZONE
TZID:UTC
BEGIN:STANDARD
TZOFFSETFROM:+0000
TZOFFSETTO:+0000
TZNAME:UTC
DTSTART:20170101T000000
END:STANDARD
END:VTIMEZONE
BEGIN:VEVENT
DTSTART;VALUE=DATE:20180901
DTEND;VALUE=DATE:20180902
DTSTAMP:20260419T211851
CREATED:20180827T053543Z
LAST-MODIFIED:20180827T053820Z
UID:12240-1535760000-1535846399@kulturaludowa.pl
SUMMARY:VII Konkurs Sztuki Ludowej - wernisaż wystawy
DESCRIPTION:Muzeum Częstochowskie zaprasza na wernisaż wystawy pokonkursowej VII Konkursu Sztuki Ludowej. Ażurowe piękno. W świecie koronki i wycinanki.  \nPodczas wernisażu zostaną ogłoszone wyniki konkursu. Otwarcie i finał odbędą się 1 września o godzinie 14.00 w Pawilonie Wystawowym w Parku Staszica w Częstochowie. \nWydarzeniu będzie towarzyszyło odsłonięcie instalacji przestrzennej wykonanej przez Nespoon znaną performerkę. \nWystawa czynna będzie do 30 listopada br. \nPatronat medialny KulturaLudowa.pl
URL:https://kulturaludowa.pl/wydarzenia/vii-konkurs-sztuki-ludowej-wernisaz-wystawy/
LOCATION:Muzeum Częstochowskie\, al. NMP 47\, Częstochowa\, Śląskie \, 42-217\, Polska
CATEGORIES:Polecane,Wystawy
ATTACH;FMTTYPE=image/jpeg:https://kulturaludowa.pl/wp-content/webpc-passthru.php?src=https://kulturaludowa.pl/wp-content/uploads/konkurs-sztuki-ludowej-czestochowa-plakat.jpg&amp;nocache=1
ORGANIZER;CN="Muzeum Cz%C4%99stochowskie":MAILTO:muzeum@muzeumczestochowa.pl
END:VEVENT
BEGIN:VEVENT
DTSTART;VALUE=DATE:20180906
DTEND;VALUE=DATE:20180907
DTSTAMP:20260419T211851
CREATED:20180907T051909Z
LAST-MODIFIED:20180907T051909Z
UID:12280-1536192000-1536278399@kulturaludowa.pl
SUMMARY:Etnoigraszki z „Ikarem”
DESCRIPTION:Z okazji 15. urodzin Toruńskiego Informatora Kulturalnego „Ikar” obchodzonych 8 września Muzeum Etnograficzne zaprasza rodziny z dziećmi\, dorosłych i seniorów na specjalną urodzinową edycję “Etnoigraszek” – międzypokoleniowej imprezy umuzykalniającej. Początek o 17.00. \nW sobotnie popołudnie wspólnie pośpiewamy ludowe piosenki\, zabawimy się w gry naszych pradziadków i zatańczymy do muzyki na żywo. Na skrzypcach zagra gość specjalny\, uczennica wiejskich muzykantów Katarzyna Zedel. Warto też przynieść własne instrumenty: grzechotki i bębenki. Prowadzenie: Marta Domachowska. \nBezpłatne wejściówki na wydarzenie do odbioru w kasie Muzeum i w Punkcie Informacyjnym Urzędu Miasta
URL:https://kulturaludowa.pl/wydarzenia/etnoigraszki-z-ikarem/
LOCATION:Muzeum Etnograficzne im. Marii Znamierowskiej-Prüfferowej w Toruniu\, ul. Wały gen. Sikorskiego 19\, Toruń\, Kujawsko-Pomorskie\, 87-100 Toruń\, Polska
CATEGORIES:Dla dzieci,Polecane,Spotkania,Warsztaty
ATTACH;FMTTYPE=image/jpeg:https://kulturaludowa.pl/wp-content/webpc-passthru.php?src=https://kulturaludowa.pl/wp-content/uploads/Etnoigraszki2.jpg&amp;nocache=1
END:VEVENT
BEGIN:VEVENT
DTSTART;VALUE=DATE:20180906
DTEND;VALUE=DATE:20180910
DTSTAMP:20260419T211851
CREATED:20180827T054658Z
LAST-MODIFIED:20180827T054658Z
UID:12245-1536192000-1536537599@kulturaludowa.pl
SUMMARY:Numinosum Festival
DESCRIPTION:Numinosum Festival\, 6-9 września 2018 w skansenie w Granicy koło Kampinosu\, to przede wszystkim wydarzenie muzyczne i taneczne związane z muzyką tradycyjną: polską\, francuską\, węgierską\, czeską i balfolkową. \nBędą to cztery dni wypełnione koncertami\, korowodami tanecznymi\, warsztatami i sesjami muzycznymi. Oprócz tego pojawią się inne formy sztuki nawiązujące do tradycji: opowieści i śpiew. \nSzczegóły na stronie www.festival.numinosum.pl
URL:https://kulturaludowa.pl/wydarzenia/numinosum-festival/
LOCATION:Skansen Budownictwa Puszczańskiego Kampinoskiego Parku Narodowego w Granicy\, Granica\, Granica\, Mazowieckie\, 05-085\, Polska
CATEGORIES:Festiwale,Koncerty,Polecane,Potańcówki,Warsztaty
ATTACH;FMTTYPE=image/jpeg:https://kulturaludowa.pl/wp-content/webpc-passthru.php?src=https://kulturaludowa.pl/wp-content/uploads/numinosum-festiwal2018_plakat.jpg&amp;nocache=1
END:VEVENT
BEGIN:VEVENT
DTSTART;VALUE=DATE:20180906
DTEND;VALUE=DATE:20180910
DTSTAMP:20260419T211851
CREATED:20180907T051354Z
LAST-MODIFIED:20180907T051354Z
UID:12279-1536192000-1536537599@kulturaludowa.pl
SUMMARY:IV Turniej Muzyków Prawdziwych
DESCRIPTION:Filharmonia im. Mieczysława Karłowicza w Szczecinie zaprasza na IV Turniej Muzyków Prawdziwych\, który rozegra się w dniach 6-9 września 2018 r. \n6 września w Filharmonii w Szczecinie rozpocznie się święto muzyki ludowej. Już po raz czwarty odbędzie się Turniej Muzyków Prawdziwych\, słynny biały gmach wypełni muzyka korzeni\, a w turniejowe szranki staną najlepsi wykonawcy muzyki tradycyjnej z całego kraju. \nProgram \n6 września 2018\, czwartek \n18:00 Oskar Kolberg\nOtwarcie wystawy „Oskar Kolberg (1814 – 1890) – Kompozytor. Folklorysta. Etnograf” / wstęp wolny \n19:00 KapelMistrze\nPokaz filmu „KapelMistrze” w reżyserii Tomasza Knittela / wstęp wolny\, obowiązują wejściówki \n7 września 2018\, piątek \n10:00-14:00\, 15:00-17:00\nPrzesłuchania zespołów i solistów / wstęp wolny \n19:00 Janosik 21\nOrkiestrowe kompozycje Kwartetu Jorgi oraz folkowa muzyka na motywach góralskich\, słowackich\, barokowych do pierwszego\, słowackiego filmu pełnometrażowego „Janosik” z 1921 roku.  / BILETY: https://bit.ly/2BzeW4r \n21:00 Tutejsi. Spotkanie z pieśnią / Ośrodek Teatralny Kana\, wstęp wolny \n8 września 2018\, sobota \n10:00-14:00\, 15:00-17:00\nPrzesłuchania zespołów i solistów / wstęp wolny \n10:00-17:00 Warsztaty muzyki ludowej\nWiejscy Mistrzowie spod Radomia i Kapela Niwińskich\nwarsztaty poprowadzą: Maria Siwiec \, Maria Pęzik \, Kapela Ryszarda Piecyka\, Kapela Zdzisława Kwapińskiego\nzapisy: turniej@filharmonia.szczecin.pl \n17:00 Turniej Tańca / wstęp wolny \n19:00 Gawęda / wstęp wolny \n20:00 Dom tańca\nDom tańca otworzy Kapela Niwińskich z Mistrzami spod Radomia i uczestnikami warsztatów / wstęp wolny \n9 września\, niedziela \n12:00 Kusy Janek – spektakl dla dzieci\nInteraktywny spektakl muzyczny dla dzieci od 4. roku życia\nWydawnictwo i MuzycznyTeatr “Słuchaj Uchem”\nBILETY: https://bit.ly/2L5fSg3 \n17: 00 Koncert finałowy\nCzęść I Laureaci IV Turnieju Muzyków Prawdziwych\nCzęść II Alaverdi – gruzińskie polifonie\nBILETY: https://bit.ly/2nQFfJj
URL:https://kulturaludowa.pl/wydarzenia/iv-turniej-muzykow-prawdziwych/
LOCATION:Filharmonia im. Mieczysława Karłowicza w Szczecinie\, ul. Małopolska 48\, Szczecin\, Zachodnio-Pomorskie\, 70-515\, Polska
CATEGORIES:Festiwale,Koncerty,Konkursy / Przeglądy,Potańcówki,Projekcie filmowe,Spotkania,Warsztaty,Wystawy
ATTACH;FMTTYPE=image/jpeg:https://kulturaludowa.pl/wp-content/webpc-passthru.php?src=https://kulturaludowa.pl/wp-content/uploads/turniej-muzykow-prawdziwych_2018_1.jpg&amp;nocache=1
ORGANIZER;CN="Filharmonia im. Mieczys%C5%82awa Kar%C5%82owicza w Szczecinie":MAILTO:turniej@filharmonia.szczecin.pl
END:VEVENT
BEGIN:VEVENT
DTSTART;VALUE=DATE:20180908
DTEND;VALUE=DATE:20180909
DTSTAMP:20260419T211851
CREATED:20180827T074845Z
LAST-MODIFIED:20180907T051429Z
UID:12247-1536364800-1536451199@kulturaludowa.pl
SUMMARY:Warsztaty wycinanki żydowskiej
DESCRIPTION:8 września Muzeum zaprasza na warsztaty wykonywania tradycyjnych wycinanek żydowskich. Zajęcia poprowadzi Anna Małecka-Beiersdorf. \nTradycyjna wycinanka była sztuką niezwykle popularną wśród Żydów\, po wojnie rozkwitła znów w Izraelu i USA. W Polsce tę formę wskrzesiła na początku lat 90. Anna Małecka-Beiersdorf –\netnografka i artystka inspirująca się sztuką ludową. To właśnie ona podzieli się z uczestnikami\nwarsztatów w kolbuszowskim Parku Etnograficznym wiedzą i umiejętnościami gromadzonymi od lat. Na zajęciach będą mogli zapoznać się z historią wycinanki\, poznać jej rodzaje\, symbolikę\, a przede\nwszystkim technikę wycinania. Każdy z uczestników będzie mógł zaprojektować i wykonać własną\npracę. \nNa warsztaty\, które odbędą się między godz. 11.00 a 13.00 w sali warsztatowej w szkole z Trzebosi\,\norganizator zaprasza dorosłych i młodzież (powyżej 12 roku życia). \nKoszt: 40 zł/os. Muzeum zapewnia wszystkie materiały. \nZgłoszenia: e-mail: sekretariat@muzeumkolbuszowa.pl\, tel. 17 227 12 96
URL:https://kulturaludowa.pl/wydarzenia/warsztaty-wycinanki-zydowskiej/
LOCATION:Muzeum Kultury Ludowej w Kolbuszowej\, ul. Kościuszki 6\, Kolbuszowa\, Podkarpackie\, 36-100\, Polska
CATEGORIES:Polecane,Warsztaty
ATTACH;FMTTYPE=image/jpeg:https://kulturaludowa.pl/wp-content/webpc-passthru.php?src=https://kulturaludowa.pl/wp-content/uploads/wycinanka-zydowska-warsztaty.jpg&amp;nocache=1
ORGANIZER;CN="Muzeum Kultury Ludowej  w Kolbuszowej":MAILTO:sekretariat@muzeumkolbuszowa.pl
END:VEVENT
BEGIN:VEVENT
DTSTART;VALUE=DATE:20180913
DTEND;VALUE=DATE:20180914
DTSTAMP:20260419T211851
CREATED:20180907T060035Z
LAST-MODIFIED:20180907T060035Z
UID:12282-1536796800-1536883199@kulturaludowa.pl
SUMMARY:Czwartki z przewodnikiem po Olenderskim Parku Etnograficznym
DESCRIPTION:W każdy czwartek września o godz. 16.00 można zwiedzić Olenderski Park Etnograficzny w Wielkiej Nieszawce wraz z pracownikiem\, który przybliży historię osadnictwa olenderskiego i opowie o otwartym w maju 2018 r. nowym oddziale Muzeum Etnograficznego w Toruniu. Wystarczy bilet wstępu\, oprowadzanie w tych dniach jest bezpłatne. \nOlenderski Park Etnograficzny w Wielkiej Nieszawce to pierwszy w Polsce skansen poświęcony osadnictwu olenderskiemu. Na terenie Parku znajdują się 3 zagrody\, składające się z 6 zabytkowych budynków mieszkalnych i gospodarskich. Przeniesione zostały z terenu Doliny Dolnej Wisły i pochodzą z XVIII i XIX w. Obiekty te to najcenniejsze\, zachowane do dnia dzisiejszego\, przykłady architektury charakterystycznej dla osadników olenderskich. \nGodziny otwarcia placówki: wtorek-niedziela: 10.00-18.00\, środa: 9.00-16.00\, poniedziałek: nieczynne.
URL:https://kulturaludowa.pl/wydarzenia/czwartki-z-przewodnikiem-po-olenderskim-parku-etnograficznym/
LOCATION:Olenderski Park Etnograficzny\, Mennonitów 14\, Wielka Nieszawka\, Kujawsko-Pomorskie\, 87-165\, Polska
CATEGORIES:Spotkania
ATTACH;FMTTYPE=image/jpeg:https://kulturaludowa.pl/wp-content/webpc-passthru.php?src=https://kulturaludowa.pl/wp-content/uploads/Przewodnik-po-OPE.jpg&amp;nocache=1
END:VEVENT
END:VCALENDAR