BEGIN:VCALENDAR
VERSION:2.0
PRODID:-//KulturaLudowa.pl - ECPv6.15.20//NONSGML v1.0//EN
CALSCALE:GREGORIAN
METHOD:PUBLISH
X-WR-CALNAME:KulturaLudowa.pl
X-ORIGINAL-URL:https://kulturaludowa.pl
X-WR-CALDESC:Wydarzenia dla KulturaLudowa.pl
REFRESH-INTERVAL;VALUE=DURATION:PT1H
X-Robots-Tag:noindex
X-PUBLISHED-TTL:PT1H
BEGIN:VTIMEZONE
TZID:UTC
BEGIN:STANDARD
TZOFFSETFROM:+0000
TZOFFSETTO:+0000
TZNAME:UTC
DTSTART:20160101T000000
END:STANDARD
END:VTIMEZONE
BEGIN:VEVENT
DTSTART;VALUE=DATE:20171209
DTEND;VALUE=DATE:20180402
DTSTAMP:20260420T060752
CREATED:20171204T090035Z
LAST-MODIFIED:20171212T075837Z
UID:10647-1512777600-1522627199@kulturaludowa.pl
SUMMARY:Magnificat. Ludowy kalendarz maryjny w Polsce
DESCRIPTION:Matki Boskiej Gromnicznej. Matki Boskiej Jagodnej. Matki Boskiej Siewnej. To tylko część spośród kilkudziesięciu świąt związanych z postacią Matki Boskiej\, które można znaleźć w ludowym kalendarzu maryjnym. Nowa wystawa czasowa Państwowego Muzeum Etnograficznego w Warszawie stanowi zbiór rzeźb ludowych Maryjek\, pochodzących z – liczącej obecnie około 500 przedstawień\, kolekcji Elżbiety Zajdel. \nPoczątki tej niezwykłej pasji kolekcjonerskiej zaczęły się niewinnie – od wizyty na jednym z targów staroci i odkrycia na nim wiekowej\, ludowej Maryjki\, wyróżniającej się wśród masy bibelotów. Z czasem praca nad powiększeniem zbiorów sięgała coraz dalej. Elżbieta Zajdel zaczęła poznawać nowe wizerunki Matki Boskiej oraz związane z nimi legendy i kulty. Oprócz dalszych poszukiwań\, zaczęła nie tylko nabywać napotkane rzeźby\, ale także zamawiać zapomniane już dziś przedstawienia Matki Boskiej i przy okazji stopniowo poznawać rzeźbiarzy ludowych\, ich filozofię życia oraz tworzenia. \n„Każda rzeźba\, czy ta stara\, czy nowa\, jest dla mnie wyjątkowa i niesie ze sobą inną historię. Pokazuje\, jak ważną częścią naszego dziedzictwa na przestrzeni wieków był i wciąż jest kult maryjny\, szczególnie barwny na polskiej wsi. Wystawa prezentuje część kolekcji\, dzięki której można zobaczyć\, jak różnorodne jest oblicze Madonny. Jest również wyrazem tęsknoty za ginącym\, kolorowym folklorem wsi” – tłumaczy kolekcjonerka. \nEkspozycja „Magnificat. Ludowy kalendarz maryjny w Polsce” przybliża jeden z przejawów kultury ludowej\, która kryje za sobą cały system wierzeń i przesądów – niejednokrotnie nierozerwalnie związanych z aspektami życia codziennego na wsi. Pozwala też poznać historię poszczególnych świąt. O tym\, kiedy Matka Boska ze świecą w dłoni obchodziła uprawy i doglądała ozimin\, kiedy ukazała się odziana w białą suknię przepasaną niebieską wstążką oraz za czyją patronkę uchodziła Matka Boska Jagodna i kto powinien spożywać jagody\, będzie można przekonać się już w grudniu w Państwowym Muzeum Etnograficznym w Warszawie. \nCzas trwania wystawy: 9 grudnia 2017 – 1 kwietnia 2018
URL:https://kulturaludowa.pl/wydarzenia/magnificat-ludowy-kalendarz-maryjny-w-polsce/
LOCATION:Państwowe Muzeum Etnograficzne w Warszawie\, ul. Kredytowa 1\, Warszawa\, Mazowieckie\, 00-056\, Polska
CATEGORIES:Wystawy
ATTACH;FMTTYPE=image/jpeg:https://kulturaludowa.pl/wp-content/webpc-passthru.php?src=https://kulturaludowa.pl/wp-content/uploads/magnificat-wystawa-maryjki-pme-warszawa.jpg&amp;nocache=1
ORGANIZER;CN="Pa%C5%84stwowe Muzeum Etnograficzne w Warszawie":MAILTO:sekretariat@ethnomuseum.pl
END:VEVENT
BEGIN:VEVENT
DTSTART;VALUE=DATE:20180414
DTEND;VALUE=DATE:20180416
DTSTAMP:20260420T060752
CREATED:20180413T095519Z
LAST-MODIFIED:20180413T095519Z
UID:11382-1523664000-1523836799@kulturaludowa.pl
SUMMARY:Rodziny Muzykujące - VI Krajowe Seminarium Etnomuzykologiczne
DESCRIPTION:W kulturze tradycyjnej muzyka\, śpiew i taniec w naturalny sposób wypełniały życie rodziny\, towarzysząc jej w czasie pracy i święta. Tworzyły pejzaż dźwiękowy dzieciństwa. Dziś tradycyjne muzykowanie w rodzinnym gronie jest zjawiskiem unikatowym\, ale dzięki temu być może bardziej zauważanym\, choć wciąż nie wystarczająco docenianym. Starsze i średnie pokolenie często przechowuje w pamięci dawne obrazy\, osoby i miejsca\, a także szczególne czasy wypełnione śpiewem\, muzyką i tańcem. \nRodzina muzykująca to przestrzeń dla wielu form wyrazu i przekazu\, to miejsce podstawowej i zaawansowanej edukacji\, rozwoju we wspólnocie\, w społeczności lokalnej\, regionalnej\, w kulturze\, to odniesienie do najważniejszych wartości\nprzekazywanych z pokolenia na pokolenie\, to odczuwanie sacrum i przyziemność codzienności\, to wspólna historia – sięgająca często wiele pokoleń wstecz\, pamięć i teraźniejszość\, to odwaga przenoszenia własnych tradycji w czasie i przestrzeni\, to zarazem wspólne cele jak i przekorne chodzenie własnymi ścieżkami… \nMuzyczna kultura tradycyjna widziana przez pryzmat rodziny daje możliwość identyfikacji dialektów muzycznych\, zindywidualizowanych rytuałów\, domowych pejzaży dźwiękowych i innych sfer muzycznego mikrokosmosu. Proponując temat rodzin muzykujących\, chcemy zwrócić uwagę na to ważne zjawisko w kontekście zarówno historycznym\, źródłowym\, jak też w żywym bycie współczesnym.  \nRODZINY MUZYKUJĄCE – HISTORIA\, PAMIĘĆ I TERAŹNIEJSZOŚĆ \nProgram seminarium \n14 kwietnia 2018 (sobota) \n10:00-10:10 – powitanie uczestników seminarium\n10:10-10:50 – wykład otwierający:\ndr hab. prof. UMCS Katarzyna Smyk: Rodzina – sacrum  \nSesja I – prowadzenie: dr Weronika Grozdew-Kołacińska\n10:50-11:10 – Lidia Biały: Życie i twórczość Albiny Kuraś\, jako wzór kultywowania rodzinnej tradycji muzycznej\n11:10-11:30 – Barbara Śnieżek: Helena i Wiktor Gołąbowie jako twórcy Zespołu Pieśni i Tańca „Familia” w Rudołowicach (pow. Jarosław)\n11:30-11:50 – Marta Wrona: Orkiestra Dęta „Esta” ze Żdżar jako przykład wielopokoleniowej rodziny muzykującej\n11:50-12:05 – Dyskusja \n12:05-12:20 – przerwa kawowa \nSesja II – prowadzenie: Gabriela Gacek\n12:20-12:40 – Katarzyna Zedel: Muzykańska werwa. Twórczość i tradycje rodzinne Adamczyków z Leszczyn\n12:40-13:00 – Marta Derejczyk: Pamięć pieśni – muzyczna historia śpiewającej rodziny Kidów z Dolnego Śląska\n13:00-13:20 – Sylwia Praśniewska: Osiem Sióstr Knapik i Oleś Brothers Duo – utalentowane rodzeństwa w koherentnej działalności twórczej\n13:20-13:40 – dr Mariusz Pucia: Orkiestra Lubczyków – śląski zespół z początków XX wieku\, o którym nic nie wiadomo\n13:40-14:00 – dyskusja \n14:00-15:00 – przerwa obiadowa \nSesja III – prowadzenie: dr hab. Tomasz Nowak\n15:00-15:15 – Jarosław Trela: Moja muzykująca rodzina – między miejskością a wiejskością\n15:15-15:30 – O Kapeli Kołazińskich – prezentacja materiałów archiwalnych\n15:30-16:00 – prezentacja muzyczna i wywiad otwarty z Wiesławą Gromadzką\n16:00-16:15 – Marta Graban-Butryn: O tym jak muzyka przypadkiem idzie w pokolenia – rodzinne muzykowanie Butrynów\n16:15-16:45 – prezentacja muzyczna i wywiad otwarty z rodziną Butrynów\n16:45-17:00 – Dorota Majerczyk: Przekaz pokoleniowy folkloru muzycznego w góralskich rodzinach\n17:00-17:45 – prezentacja muzyczna i wywiad otwarty z rodziną Majerczyków\n17:45-18:00 – dyskusja i podsumowanie I dnia konferencji \n19:00 – klub konferencyjny z muzyką i tańcem w karczmie „Siwy Dym”\n(ul. Puławska 378\, Warszawa) \n 2 kwietnia 2017 (niedziela) \n10:00-10:45 – walne zebranie Stowarzyszenia „PSE”  \n10:45-11:00 – przerwa kawowa \nSesja IV – prowadzenie: dr Mariusz Pucia\n11:00-11:20 – dr Natalia Goraj: Tradycja wciąż żywa. Przekaz muzyki karnatyjskiej i tańca w rodzinach Gowindy Dikszitara i Tańdźore Balasaraswati (Tamilnadu\, Indie)\n11:20-11:40 – Maria Szymańska-Ilnata: Rodzinny przekaz tradycji muzycznych na Sumatrze Zachodniej\n11:40-11:50 – dyskusja \n11:50-12:00 – przerwa kawowa \nSesja V – prowadzenie: Ewelina Grygier\n12:00-12:20 – Gabriela Gacek: Co pokolenie to inna pieśń. Tradycje muzyczne w rodzinie Kowalczyków z Krzeczowa\n12:20-12:40 – Michalina Janaszak i Karolina Dziubata: Kapela rodziny Orlików. Przekazywanie i ochrona muzycznego dziedzictwa Ziemi Szamotulskiej\n12:40-13:00 – dr Ewa Grochowska: Tradycja a „wielka” historia. Przekaz wartości czy kompetencji? Na przykładzie rodzin przesiedlonych po II Wojnie Światowej na Pomorze Zachodnie\n13:00-13:15 – dyskusja \n13:15-13:30 – przerwa kawowa \n13:30-14:10 – wykład zamykający:\ndr hab. prof. UAM Anna Weronika-Brzezińska: Pamięć rodzinna rodzin muzykujących – między heritologią a pamięciologią\n14:10-14:30 – podsumowanie i zakończenie seminarium \nŹródło: www.facebook.com
URL:https://kulturaludowa.pl/wydarzenia/rodziny-muzykujace-vi-krajowe-seminarium-etnomuzykologiczne/
LOCATION:Polskie Seminarium Etnomuzykologiczne\, ul. Bukowińska 12/122\, Warszawa\, Mazowieckie\, 02-703\, Polska
CATEGORIES:Koncerty,Polecane,Spotkania,Wykłady / Konferencje
ATTACH;FMTTYPE=image/jpeg:https://kulturaludowa.pl/wp-content/webpc-passthru.php?src=https://kulturaludowa.pl/wp-content/uploads/rodziny-muzykujace.jpg&amp;nocache=1
END:VEVENT
BEGIN:VEVENT
DTSTART;VALUE=DATE:20180419
DTEND;VALUE=DATE:20180421
DTSTAMP:20260420T060752
CREATED:20180417T073046Z
LAST-MODIFIED:20180417T074836Z
UID:11393-1524096000-1524268799@kulturaludowa.pl
SUMMARY:Akademia Sztuki Ludowej. Warsztaty wycinanki ludowej
DESCRIPTION:Wycinanka z papieru\, dawniej jeden z najefektowniejszych elementów świątecznego wystroju wiejskiej izby\, jest niewątpliwie najciekawszą formą i niemal symbolem polskiej sztuki ludowej. W ramach projektu Akademia Sztuki Ludowej w kwietniu w Galerii Sztuki Ludowej przy ul. Grodzkiej 14 w Lublinie odbędą się warsztaty wycinankarskie\, które poprowadzą twórcy ludowi. W spotkaniach uczestniczyć mogą dzieci i młodzież w grupach zorganizowanych. \nPlan warsztatów \n19-20 kwietnia (czwartek-piątek) ALEKSANDER DUTKIEWICZ\nAleksander Dutkiewicz pochodzi z rodziny\, w której starannie pielęgnowano tradycje ludowe. Umiejętności wycinankarskich uczył się od babci. Już jako czternastolatek zdobył wyróżnienie w konkursie „Wycinanka ludowa” zorganizowanym przez Muzeum Ziemi Rawskiej. Jego wycinanki to tradycyjne rózgi rawskie\, ażurowe koła i kwadraty w kolorach czarnym\, czerwonym\, zielonym i filetowym. W swoich zbiorach posiada bogatą kolekcję wycinanek (ok. 1000 sztuk). Chętnie prowadzi warsztaty i spotkania\, które mają na celu podtrzymanie tradycji wykonywania rawskich wycinanek \n23-24 kwietnia (poniedziałek-wtorek) MARIA CIECHAŃSKA\nPani Maria twórczością ludową zajmuje się od dziecka\, wiedza na ten temat w Jej rodzinie przekazywana była z pokolenia na pokolenie. Wykonuje wycinanki łowickie – kodry rodzajowe\, kwiatowe\, tasiemki\, a także pisanki łowickie. Jest laureatką wielu nagród i wyróżnień. Od 1984 roku jest członkinią Stowarzyszenia Twórców Ludowych. Podczas warsztatów uczestnicy wykonają kartki i wielobarwną wycinanką kwiatową. \nWarsztaty odbywają się w godzinach: 8.30-9.30; 10.00-11.00; 11.30-12.30; 13.00-14.00 \nOpłata: 5\,00/osoba \nMiejsce: Galeria Sztuki Ludowej STL\, ul. Grodzka 14\, Lublin \nRezerwacja wyłącznie telefoniczna: 81 532 37 45\, 602 491 229\nMateriały na warsztaty zapewnia organizator. \nWarsztaty zostały dofinansowane przez Urząd Miasta Lublin oraz Ministerstwo Kultury i Dziedzictwa Narodowego. \nOprac. Katarzyna Kraczoń
URL:https://kulturaludowa.pl/wydarzenia/akademia-sztuki-ludowej-warsztaty-wycinanki-ludowej/
LOCATION:Stowarzyszenie Twórców Ludowych\, ul. Grodzka 14\, Lublin\, Lubelskie\, 20-112\, Polska
CATEGORIES:Dla dzieci,Polecane,Warsztaty
ATTACH;FMTTYPE=image/png:https://kulturaludowa.pl/wp-content/webpc-passthru.php?src=https://kulturaludowa.pl/wp-content/uploads/warsztaty-wycinanki-baner.png&amp;nocache=1
ORGANIZER;CN="Stowarzyszenie Tw%C3%B3rc%C3%B3w Ludowych Zarz%C4%85d G%C5%82%C3%B3wny":MAILTO:zgstl@op.pl
END:VEVENT
BEGIN:VEVENT
DTSTART;VALUE=DATE:20180421
DTEND;VALUE=DATE:20180423
DTSTAMP:20260420T060752
CREATED:20180417T074526Z
LAST-MODIFIED:20180417T074526Z
UID:11391-1524268800-1524441599@kulturaludowa.pl
SUMMARY:10. Małopolski Konkurs Obrzędów\, Obyczajów i Zwyczajów Ludowych POGÓRZAŃSKIE GODY
DESCRIPTION:21 i 22 kwietnia br. w Gminnym Ośrodku Kultury w Łużnej odbędzie się jubileuszowa 10. edycja Małopolskiego Konkursu Obrzędów\, Obyczajów i Zwyczajów Ludowych POGÓRZAŃSKIE GODY. \nKonkurs ma na celu ochronę najcenniejszych wartości kultury ludowej wyrażonych w obrzędach\, zwyczajach\, muzyce\, śpiewie\, tańcu i gwarze. Bierze w nim udział kilkanaście grup wyłonionych drogą kwalifikacji na przeglądach powiatowych i regionalnych\, a najlepsze zespoły kwalifikowane są na Międzywojewódzki Sejmik Wiejskich Zespołów Teatralnych w Bukowinie Tatrzańskiej. \n(…) Przed uczestnikami Pogórzańskich Godów zawsze stoi wiele wyzwań. Forma i charakter widowiska wymaga od instruktorów nie tylko szerokiej wiedzy folklorystycznej – obyczajowej\, muzycznej\, choreograficznej – ale przede wszystkim teatralnej\, oraz umiejętności reżyserskich i scenograficznych. Zarówno instruktorzy jak i grupy z nimi pracujące mają szczególną okazję podczas przygotowywania programu\, bliższego poznania\, a w wielu wypadkach przypomnienia sobie  tego\, co stanowi sedno ich obyczajowych zachowań. Konkurs ten z roku na rok przybiera na znaczeniu. W sposób szczególny z tego powodu\, że prezentacje oddają wierność tradycji swojego regionu. Ponadto ich artystyczne walory cieszą oko i ucho. Mogą też być dla przyszłych pokoleń cennym materiałem opartym na źródłach. Oby ta optymistyczna wizja była na jubileusz drugiego dziesięciolecia konkursu choć po części aktualna.” \nBenedykt Kafel – etnograf \nOrganizatorzy:\nMałopolskie Centrum Kultury SOKÓŁ w Nowym Sączu\nGminny Ośrodek Kultury w Łużnej
URL:https://kulturaludowa.pl/wydarzenia/10-malopolski-konkurs-obrzedow-obyczajow-i-zwyczajow-ludowych-pogorzanskie-gody/
LOCATION:Gminny Ośrodek Kultury w Łużnej\, Łużna 597\, Łużna\, Małopolskie\, 38-322\, Polska
CATEGORIES:Festiwale,Konkursy / Przeglądy,Polecane,Przedstawienia
ATTACH;FMTTYPE=image/png:https://kulturaludowa.pl/wp-content/webpc-passthru.php?src=https://kulturaludowa.pl/wp-content/uploads/pogorzanskie-gody-2018.png&amp;nocache=1
ORGANIZER;CN="Ma%C5%82opolskie Centrum Kultury SOK%C3%93%C5%81":MAILTO:kontakt[at]mcksokol.pl
END:VEVENT
BEGIN:VEVENT
DTSTART;VALUE=DATE:20180424
DTEND;VALUE=DATE:20180429
DTSTAMP:20260420T060752
CREATED:20180417T081739Z
LAST-MODIFIED:20180417T081739Z
UID:11395-1524528000-1524959999@kulturaludowa.pl
SUMMARY:Festiwal Wszystkie Mazurki Świata – Polska Tańcząca
DESCRIPTION:Pięć dni koncertów i potańcówek\, najlepsze kapele wiejskie\, gorące rytmy hiszpańskie\, ponad 30 godzin warsztatów\, zajęcia dla dzieci\, pokazy produkcji instrumentów i spotkania z ich twórcami – ponad 100 wystawców. A na koniec Noc Tańca – 10 godzin świetnej muzyki ponad 30 kapel i taneczne szaleństwo do rana. Szykuje się gorący\, wiosenny karnawał – dziewiąty już festiwal Wszystkie Mazurki Świata\, święto tradycyjnej muzyki\, tańca i śpiewu. Trzeba spróbować!   \nPROGRAM \nWTOREK 24. 04. 2018\nGodz. 12-18\, Centrum Promocji Kultury\, ul. Podskarbińska 2\nWarsztaty \nGodz. 20.00\, Centrum Promocji Kultury\, ul. Podskarbińska 2\nKoncert finałowy konkursu dla młodych wykonawców „Stara Tradycja”\nWykonawcy: laureaci konkursu. \n22.00 – 1.00 Klub festiwalowy\, Centrum Promocji Kultury\, ul. Podskarbińska 2 \nŚRODA 25. 04. 2018\nGodz. 10-18\, Centrum Promocji Kultury\, ul. Podskarbińska 2\nWarsztaty oraz Pracownia Targowiska Instrumentów \nGodz. 17-18\, Państwowe Muzeum Etnograficzne\, Kredytowa 1\nMałe Mazurki – Dzieci dzieciom\, Paula Kinaszewska i Wesołe Mazurki z Pragi \nGodz. 19.00\, Centralna Biblioteka Rolnicza\, Krakowskie Przedmieście 66\nKONCERT „Muzyka dorzecza Prosny”\nWykonawcy: wiejscy muzycy z regionu kaliskiego oraz sieradzkiego: Leon Lewandowski (skrzypce)\, kapela Antczaków\, kapela Tomczyka\, Eugeniusz Kaczmarek\, śpiewaczki:  Janina Plichta\, Helena Szych i ich młodzi kontynuatorzy – Kapela Gołoborze i Joanna Szaflik. \n22.00 – 1.00 Klub festiwalowy\, Centralna Biblioteka Rolnicza\, Krakowskie Przedmieście 66 \nCZWARTEK 26. 04. 2018\nGodz. 10-18\, Centrum Promocji Kultury\, ul. Podskarbińska 2\nWarsztaty oraz Pracownia Targowiska Instrumentów \nPaństwowe Muzeum Etnograficzne\, Kredytowa 1\nGodz. 17-18 Małe Mazurki – Sami tworzymy muzykę\,  Vigüela (Hiszpania) \nGodz. 19.00 Centralna Biblioteka Rolnicza \, Krakowskie Przedmieście 66\nKONCERT „Dialogi na tańce polskie. Ludowe vs narodowe”\nWykonawcy: zespół muzyki dawnej Sabionetta\, Kapela Niwińskich oraz tancerze pod przewodnictwem Roberta Lubery i Anny Ilczuk – tańce historyczne oraz Bogumiły i Piotra Zgorzelskich – tańce wiejskie/ ludowe. \n22.00 – 1.00 Klub festiwalowy\, Centralna Biblioteka Rolnicza\, Krakowskie Przedmieście 66 \nPIĄTEK 27. 04. 2018\nGodz. 10-18\, Centrum Promocji Kultury\, ul. Podskarbińska 2\nWarsztaty oraz Pracownia Targowiska Instrumentów \nGodz. 19.00 Centralna Biblioteka Rolnicza \, Krakowskie Przedmieście 66\nKONCERT „Pieśni i rytmy od Wschodu do Zachodu”\nCz. I „Sacrum i profanum śpiewów wiosennych znad Sanu”\nWykonawcy: Śpiewacy z Przemyskiego\, zespół Krajka oraz kapela Serhija Ochrymczuka i Taras Kompaniczenko (Ukraina);\nCz. II „Wspólnota pieśni. Mazowsze – Kastylia”\nWykonawcy: Maria Siwiec (śpiewaczka z Gałek Rusinowskich)\, Janusz Prusinowski Kompania i zespół Vigüela (Hiszpania). \n22.00 – 1.00 Klub festiwalowy\, Centralna Biblioteka Rolnicza\, Krakowskie Przedmieście 66 \nSOBOTA 28. 04. 2018\nGodz. 11.00 – 18.00\,  Forteca\, ul. Zakroczymska 12\nTARGOWISKO INSTRUMENTÓW\n– pokazy pracy przy budowie instrumentów\n– warsztaty tańca\, wspólne śpiewanie\n– Małe Mazurki – zajęcia dla dzieci \nGodz. 19.00 – 5.00\, Forteca\, ul. Zakroczymska 12\nNOC TAŃCA\nKulminacja festiwalu\, do tańca zagra ponad 30 kapel\, wiejskich i miejskich\, takich jak: WoWaKin\, Tęgie Chłopy\, Vigüela\, Warszawska Orkiestra Sentymentalna\, Kapela Aleksandra Łosia\, Kapela Niwińskich\, Janusz Prusinowski Kompania\, Heniek Małolepszy\, Bonanza\, Gołoborze i Leon Lewandowski i wiele\, wiele innych. \nWARSZTATY MUZYCZNE  i TANECZNE\n24 – 27 kwietnia\, w godzinach 10.00 -18.00\, w Centrum Promocji Kultury w Dzielnicy Praga Południe oraz w siedzibie Orkiestry Sinfonia Varsovia.\nWięcej informacji na www.festivalmazurki.pl \nKoncerty:\nwtorek i środa – 20 zł\nczwartek-piątek – 30/20 zł\nNoc Tańca (sobota) – 40/30 zł\nTargowisko Instrumentów: 10/5 zł \ndzieci do lat 7 – wstęp wolny\nmłodzież do lat 18 – ulgowy\nseniorzy 65+ – ulgowy \nkarnety (na koncerty i Noc Tańca)\n130 zł – cena od 4 kwietnia \nwarsztaty:\n10 zł za każdy warsztat (nie ma przedsprzedaży)\n50 zł – karnet na wszystkie warsztaty \nMałe Mazurki:  20 zł dziecko- rodzic\, 10 zł drugie dziecko z rodzeństwa\, 5 zł trzecie. Dorosły bez dziecka – 20 zł. Bilety do nabycia i rezerwacja: rezerwacje@ethnomuseum.pl \nSzczegóły na stronie www.festivalmazurki.pl
URL:https://kulturaludowa.pl/wydarzenia/festiwal-wszystkie-mazurki-swiata-polska-tanczaca/
LOCATION:Warszawa\, Warszawa\, Mazowieckie\, Polska
CATEGORIES:Dla dzieci,Festiwale,Koncerty,Polecane,Potańcówki,Targi / Kiermasze / Jarmarki,Warsztaty
ATTACH;FMTTYPE=image/jpeg:https://kulturaludowa.pl/wp-content/webpc-passthru.php?src=https://kulturaludowa.pl/wp-content/uploads/mazurki-2018.jpg&amp;nocache=1
ORGANIZER;CN="Fundacja Wszystkie Mazurki %C5%9Awiata":MAILTO:biuro@festivalmazurki.pl
END:VEVENT
BEGIN:VEVENT
DTSTART;VALUE=DATE:20180428
DTEND;VALUE=DATE:20180430
DTSTAMP:20260420T060752
CREATED:20180424T054900Z
LAST-MODIFIED:20180424T054900Z
UID:11437-1524873600-1525046399@kulturaludowa.pl
SUMMARY:XXX Wojewódzki Konkurs Ludowe Obrzędy i Zwyczaje
DESCRIPTION:Wojewódzki Dom Kultury w Rzeszowie\, Miejsko-Gminny Ośrodek Kultury w Sędziszowie Małopolskim zapraszają na XXX Wojewódzki Konkurs Ludowe Obrzędy i Zwyczaje\, który odbędzie się w dniach 28-29 kwietnia 2018 w MGOK w Sędziszowie Młp. \nPrzez dwa konkursowe dni na deskach sceny zaprezentują się zespoły obrzędowe z całego województwa podkarpackiego z szerokim wachlarzem widowisk: od obrzędów i zwyczajów dorocznych tj. Wielki Piątek\, Zielone Świątki\, Wigilia\, po obrzędy rodzinne np. wesele. Będzie można zobaczyć również inscenizację zapomnianych czynności gospodarskich takich jak kiszenie kapusty\, darcie pierza czy sadzenie ziemniaków. \nW konkursowych zmaganiach weźmie udział czołówka wśród zespołów folklorystycznych Podkarpacia m.in. Zespół Obrzędowy Graboszczanie z Grabownicy Starzeńskiej\, Zespół Regionalny Grodziszczoki z Grodziska Dolnego\, Zespół Folklorystyczny Folusz z Giedlarowej\, Jamniczanki z Jamnicy\, Zespół Śpiewaczo-Obrzędowy Leszczynka z Wólki Grodziskiej\, Mazurzanie z Mazurów\, Zespół Obrzędowy Futomianie z Futomy czy Zespół Obrzędowy Lasowiaczki z Baranowa Sandomierskiego. \nW sumie wystąpi ok. 20 zespołów. Ludowe Święto gromadzi co roku liczne grono osób (ok. 350 uczestników)\, którym kultura ludowa jest bliska sercu oraz tych\, którzy pragną zapoznać się z tradycyjną kulturą ludową. Impreza spełnia ważną rolę edukacyjną i poznawczą\, dokumentuje i przyczynia się do popularyzacji coraz mniej znanych ludowych obrzędów i zwyczajów\, co ma szczególne znaczenie w odniesieniu do\ndzieci i młodzieży. \n28 kwietnia 2018 r. (sobota) rozpoczynamy o godzinie 10:00 – przegląd konkursowy\n29 kwietnia 2018 r. (niedziela) o godz. 10:00 – przegląd konkursowy \nWięcej informacji na: www.wdk.podkarpackie.pl \nKonkurs dofinansowano ze środków finansowych Ministra Kultury i Dziedzictwa Narodowego. \nWstęp jest darmowy\, zapraszamy wszystkich zainteresowanych. \n* Zdjęcie na górze: Zespół Obrzędowy z Łazor\, fot. WDK Rzeszów
URL:https://kulturaludowa.pl/wydarzenia/xxx-wojewodzki-konkurs-ludowe-obrzedy-i-zwyczaje/
LOCATION:Miejsko Gminny Ośrodek Kultury w Sędziszowie Małopolskim\, ul. 3-go Maja 36\, Sedziszów Małopolski\, Podkarpackie\, 39-120\, Polska
CATEGORIES:Konkursy / Przeglądy,Polecane
ATTACH;FMTTYPE=image/jpeg:https://kulturaludowa.pl/wp-content/webpc-passthru.php?src=https://kulturaludowa.pl/wp-content/uploads/zespol-obrzedowy-z-lazor-fot.wdk-rzeszow.jpg&amp;nocache=1
ORGANIZER;CN="Wojew%C3%B3dzki Dom Kultury w Rzeszowie":MAILTO:wdk@podkarpackie.pl
END:VEVENT
END:VCALENDAR